BEGIN:VCALENDAR
VERSION:2.0
PRODID:-//Plataforma de Colaboração para Olimpíadas Científicas - ECPv6.15.17//NONSGML v1.0//EN
CALSCALE:GREGORIAN
METHOD:PUBLISH
X-ORIGINAL-URL:https://comunidade-olimpiadas.lidersys.com.br
X-WR-CALDESC:Eventos para Plataforma de Colaboração para Olimpíadas Científicas
REFRESH-INTERVAL;VALUE=DURATION:PT1H
X-Robots-Tag:noindex
X-PUBLISHED-TTL:PT1H
BEGIN:VTIMEZONE
TZID:America/Sao_Paulo
BEGIN:STANDARD
TZOFFSETFROM:-0300
TZOFFSETTO:-0300
TZNAME:-03
DTSTART:20240101T000000
END:STANDARD
END:VTIMEZONE
BEGIN:VEVENT
DTSTART;VALUE=DATE:20251109
DTEND;VALUE=DATE:20251110
DTSTAMP:20260421T184903
CREATED:20250530T161854Z
LAST-MODIFIED:20250831T123804Z
UID:2383-1762646400-1762732799@comunidade-olimpiadas.lidersys.com.br
SUMMARY:Maratona SBC de programação - Final Brasileira (Fim)
DESCRIPTION:Área temática: \n\nProgramação\n\nPúblico-alvo:  \n\nTer iniciado o primeiro curso superior há no máximo 5 anos ou completar no máximo 23 anos de idade no ano da competição\n\nModalidades e fases:  \n\nFase zero (online\, facultativa)\n\nPrimeira Fase\n\nFinal Nacional\n\nSeletiva para Olimpíada Internacional:  \n\nInternational Collegiate Programming Contest (ICPC) – ICPC Latin America Champions\n\nFinanciamento\, apoio e/ou organização:  \n\nSBF; Fundação Behring; Fundação Estudar; b projetos
URL:https://comunidade-olimpiadas.lidersys.com.br/event/maratona-sbc-de-programacao-final-brasileira-fim/
CATEGORIES:Prova de Competição Nacional
ATTACH;FMTTYPE=image/png:https://comunidade-olimpiadas.lidersys.com.br/wp-content/uploads/2025/05/sbc.png
END:VEVENT
END:VCALENDAR