BEGIN:VCALENDAR
VERSION:2.0
PRODID:-//Plataforma de Colaboração para Olimpíadas Científicas - ECPv6.15.17//NONSGML v1.0//EN
CALSCALE:GREGORIAN
METHOD:PUBLISH
X-ORIGINAL-URL:https://comunidade-olimpiadas.lidersys.com.br
X-WR-CALDESC:Eventos para Plataforma de Colaboração para Olimpíadas Científicas
REFRESH-INTERVAL;VALUE=DURATION:PT1H
X-Robots-Tag:noindex
X-PUBLISHED-TTL:PT1H
BEGIN:VTIMEZONE
TZID:America/Sao_Paulo
BEGIN:STANDARD
TZOFFSETFROM:-0300
TZOFFSETTO:-0300
TZNAME:-03
DTSTART:20240101T000000
END:STANDARD
END:VTIMEZONE
BEGIN:VEVENT
DTSTART;VALUE=DATE:20251122
DTEND;VALUE=DATE:20251123
DTSTAMP:20260421T184904
CREATED:20250513T010341Z
LAST-MODIFIED:20250731T185521Z
UID:1116-1763769600-1763855999@comunidade-olimpiadas.lidersys.com.br
SUMMARY:Olimpíada Brasileira de Física das Escolas Públicas (OBFEP) - Segunda fase (Sedes/CA)
DESCRIPTION:Área temática: \n\nFísica\n\nPúblico-alvo:  \n\nNível A: Estudantes do 9º ano do Ensino Fundamental\n\nNível B: Estudantes da 1ª e 2ª séries do Ensino Médio\n\nNível C: Estudantes da 3ª série e 4ª séries (onde houver) do Ensino Médio\n\nModalidades e fases:  \n\nDuas fases\n\nSeletiva para Olimpíada Internacional:  \n\nInternational Physics Olympiad (IPhO);\n\nOlimpíada Iberoamericana de Física (OIbF)\n\nFinanciamento\, apoio e/ou organização: \n\nSBF; CNPq; FNDCT; MCTI; Governo Federal; MEC; POP Ciência; CAPES
URL:https://comunidade-olimpiadas.lidersys.com.br/event/obfep-segunda-fase-sedes-ca/
CATEGORIES:Prova de Competição Nacional
ATTACH;FMTTYPE=image/png:https://comunidade-olimpiadas.lidersys.com.br/wp-content/uploads/2025/05/OBFEP.png
END:VEVENT
END:VCALENDAR