BEGIN:VCALENDAR
VERSION:2.0
PRODID:-//Plataforma de Colaboração para Olimpíadas Científicas - ECPv6.15.17//NONSGML v1.0//EN
CALSCALE:GREGORIAN
METHOD:PUBLISH
X-ORIGINAL-URL:https://comunidade-olimpiadas.lidersys.com.br
X-WR-CALDESC:Eventos para Plataforma de Colaboração para Olimpíadas Científicas
REFRESH-INTERVAL;VALUE=DURATION:PT1H
X-Robots-Tag:noindex
X-PUBLISHED-TTL:PT1H
BEGIN:VTIMEZONE
TZID:America/Sao_Paulo
BEGIN:STANDARD
TZOFFSETFROM:-0300
TZOFFSETTO:-0300
TZNAME:-03
DTSTART:20240101T000000
END:STANDARD
END:VTIMEZONE
BEGIN:VEVENT
DTSTART;VALUE=DATE:20251214
DTEND;VALUE=DATE:20251215
DTSTAMP:20260421T171810
CREATED:20250530T162715Z
LAST-MODIFIED:20250831T123914Z
UID:2388-1765670400-1765756799@comunidade-olimpiadas.lidersys.com.br
SUMMARY:Torneio Brasil de Robótica (TBR) - Fim Etapa Nacional
DESCRIPTION:Área temática: \n\nRobótica\n\nPúblico-alvo:  \n\nBaby – 3 a 5 anos;\nKids 1 – 5 a 7 anos;\n\nKids 2 – 7 a 10 anos;\n\nMiddle 1 – 10 a 12 anos;\n\nMiddle 2 – 12 a 15 anos;\n\nHigh – 15 a 19 anos;\n\nTechnic – a partir de 15 anos;\n\nUniversity – a partir de 17 anos.\n\nModalidades e fases:  \n\nAvaliação em sala; avaliação em arena\n\nFinanciamento\, apoio e/ou organização:  \n\nAME Educação; Tec Nia; Stem; Fact; Zoom; Marista; Rede Batista de Educação; Paraíso Colégio; Etec Parque Juventude; Colégio Cariza; Colégio Casulo; Findes; Firjan/Sesi; Fundação Helena Antipoff; SECTI; UNISAL; Católica de Vitória; UNIUBE; UNA; ENIAC; CESEP; Colégio Inspire; Colégio Domus Sapiens
URL:https://comunidade-olimpiadas.lidersys.com.br/event/torneio-brasil-de-robotica-tbr-fim-etapa-nacional/
CATEGORIES:Prova de Competição Nacional
ATTACH;FMTTYPE=image/png:https://comunidade-olimpiadas.lidersys.com.br/wp-content/uploads/2025/05/TBR.png
END:VEVENT
END:VCALENDAR