BEGIN:VCALENDAR
VERSION:2.0
PRODID:-//Plataforma de Colaboração para Olimpíadas Científicas - ECPv6.15.17//NONSGML v1.0//EN
CALSCALE:GREGORIAN
METHOD:PUBLISH
X-WR-CALNAME:Plataforma de Colaboração para Olimpíadas Científicas
X-ORIGINAL-URL:https://comunidade-olimpiadas.lidersys.com.br
X-WR-CALDESC:Eventos para Plataforma de Colaboração para Olimpíadas Científicas
REFRESH-INTERVAL;VALUE=DURATION:PT1H
X-Robots-Tag:noindex
X-PUBLISHED-TTL:PT1H
BEGIN:VTIMEZONE
TZID:America/Sao_Paulo
BEGIN:STANDARD
TZOFFSETFROM:-0300
TZOFFSETTO:-0300
TZNAME:-03
DTSTART:20250101T000000
END:STANDARD
END:VTIMEZONE
BEGIN:VEVENT
DTSTART;TZID=America/Sao_Paulo:20260317T080000
DTEND;TZID=America/Sao_Paulo:20260322T170000
DTSTAMP:20260421T142800
CREATED:20260226T203438Z
LAST-MODIFIED:20260226T203530Z
UID:3657-1773734400-1774198800@comunidade-olimpiadas.lidersys.com.br
SUMMARY:OBMEP (Olimpíada Brasileira de Matemática das Escolas Públicas) – Pagamento de boletos – Apenas escolas privadas
DESCRIPTION:Área temática: \n\nMatemática\n\nPúblico alvo: \n\nEstudantes do 6º ano do Ensino Fundamental ao 3º ano do Ensino Médio matriculados exclusivamente na rede privada.\n\nFinanciamento\, apoio e/ou organização: \n\n\nIMPA (Instituto de Matemática Pura e Aplicada)
URL:https://comunidade-olimpiadas.lidersys.com.br/event/obmep-olimpiada-brasileira-de-matematica-das-escolas-publicas-pagamento-de-boletos-apenas-escolas-privadas/
END:VEVENT
BEGIN:VEVENT
DTSTART;VALUE=DATE:20260318
DTEND;VALUE=DATE:20260319
DTSTAMP:20260421T142800
CREATED:20260226T204031Z
LAST-MODIFIED:20260226T204031Z
UID:3659-1773792000-1773878399@comunidade-olimpiadas.lidersys.com.br
SUMMARY:OBB (Olimpíada Brasileira de Biologia) – Prova da 2ª Fase – Apenas para classificados na 1ª fase
DESCRIPTION:Área temática: \n\nBiologia\n\nPúblico alvo: \n\nEstudantes do Ensino Médio de escolas públicas e particulares classificados na fase anterior.\n\nFinanciamento\, apoio e/ou organização: \n\nInstituto Butantan\nAgências de fomento\nGoverno Federal
URL:https://comunidade-olimpiadas.lidersys.com.br/event/obb-olimpiada-brasileira-de-biologia-prova-da-2a-fase-apenas-para-classificados-na-1a-fase/
CATEGORIES:Prova de Competição Nacional
END:VEVENT
END:VCALENDAR