BEGIN:VCALENDAR
VERSION:2.0
PRODID:-//Plataforma de Colaboração para Olimpíadas Científicas - ECPv6.15.17//NONSGML v1.0//EN
CALSCALE:GREGORIAN
METHOD:PUBLISH
X-WR-CALNAME:Plataforma de Colaboração para Olimpíadas Científicas
X-ORIGINAL-URL:https://comunidade-olimpiadas.lidersys.com.br
X-WR-CALDESC:Eventos para Plataforma de Colaboração para Olimpíadas Científicas
REFRESH-INTERVAL;VALUE=DURATION:PT1H
X-Robots-Tag:noindex
X-PUBLISHED-TTL:PT1H
BEGIN:VTIMEZONE
TZID:America/Sao_Paulo
BEGIN:STANDARD
TZOFFSETFROM:-0300
TZOFFSETTO:-0300
TZNAME:-03
DTSTART:20250101T000000
END:STANDARD
END:VTIMEZONE
BEGIN:VEVENT
DTSTART;VALUE=DATE:20260515
DTEND;VALUE=DATE:20260516
DTSTAMP:20260421T140029
CREATED:20260226T213013Z
LAST-MODIFIED:20260226T213013Z
UID:3665-1778803200-1778889599@comunidade-olimpiadas.lidersys.com.br
SUMMARY:OBA (Olimpíada Brasileira de Astronomia e Astronáutica) – Prova Única
DESCRIPTION:Área temática: \n\nAstronomia\nAstronáutica\n\nPúblico alvo: \n\nEstudantes do Ensino Fundamental e Ensino Médio\n\nFinanciamento\, apoio e/ou organização: \n\nSociedade Astronômica Brasileira (SAB)\nAgência Espacial Brasileira (AEB)
URL:https://comunidade-olimpiadas.lidersys.com.br/event/oba-olimpiada-brasileira-de-astronomia-e-astronautica-prova-unica/
CATEGORIES:Prova de Competição Nacional
END:VEVENT
BEGIN:VEVENT
DTSTART;VALUE=DATE:20260515
DTEND;VALUE=DATE:20260516
DTSTAMP:20260421T140029
CREATED:20260226T213537Z
LAST-MODIFIED:20260226T213537Z
UID:3667-1778803200-1778889599@comunidade-olimpiadas.lidersys.com.br
SUMMARY:OBAFOG (Olimpíada Brasileira de Foguetes) – Data limite para lançamentos
DESCRIPTION:Área temática: \n\nAstronomia\nAstronáutica\nFísica Aplicada\n\nPúblico alvo: \n\nEstudantes do Ensino Fundamental e Ensino Médio (atividade prática com foguetes reais nas escolas)\n\nFinanciamento\, apoio e/ou organização: \n\nSociedade Astronômica Brasileira (SAB)\nAgência Espacial Brasileira (AEB)
URL:https://comunidade-olimpiadas.lidersys.com.br/event/obafog-olimpiada-brasileira-de-foguetes-data-limite-para-lancamentos/
CATEGORIES:Prova de Competição Nacional
END:VEVENT
END:VCALENDAR