BEGIN:VCALENDAR
VERSION:2.0
PRODID:-//Plataforma de Colaboração para Olimpíadas Científicas - ECPv6.15.17//NONSGML v1.0//EN
CALSCALE:GREGORIAN
METHOD:PUBLISH
X-ORIGINAL-URL:https://comunidade-olimpiadas.lidersys.com.br
X-WR-CALDESC:Eventos para Plataforma de Colaboração para Olimpíadas Científicas
REFRESH-INTERVAL;VALUE=DURATION:PT1H
X-Robots-Tag:noindex
X-PUBLISHED-TTL:PT1H
BEGIN:VTIMEZONE
TZID:America/Sao_Paulo
BEGIN:STANDARD
TZOFFSETFROM:-0300
TZOFFSETTO:-0300
TZNAME:-03
DTSTART:20250101T000000
END:STANDARD
END:VTIMEZONE
BEGIN:VEVENT
DTSTART;VALUE=DATE:20260630
DTEND;VALUE=DATE:20260701
DTSTAMP:20260421T142537
CREATED:20250830T015127Z
LAST-MODIFIED:20250830T015127Z
UID:2975-1782777600-1782863999@comunidade-olimpiadas.lidersys.com.br
SUMMARY:Olimpíada Brasileira de Saúde e Meio Ambiente (OBSMA) - Fim de inscrições
DESCRIPTION:Área temática: \n\nSaúde e Meio Ambiente\n\nPúblico-alvo:  \n\nEstudantes do 6° ao 9° ano do Ensino Fundamental\nEstudantes do Ensino Médio\n\nModalidades e fases:  \n\nTrês modalidades: Audiovisual; Projeto de ciências; Produção de texto\n\nFinanciamento\, apoio e/ou organização:  \n\nCNPq; Fiocruz; SUS; Ministério da Saúde
URL:https://comunidade-olimpiadas.lidersys.com.br/event/olimpiada-brasileira-de-saude-e-meio-ambiente-obsma-fim-de-inscricoes/
CATEGORIES:Início e Fim de Inscrições
END:VEVENT
BEGIN:VEVENT
DTSTART;VALUE=DATE:20260630
DTEND;VALUE=DATE:20260701
DTSTAMP:20260421T142537
CREATED:20260226T214252Z
LAST-MODIFIED:20260226T214252Z
UID:3671-1782777600-1782863999@comunidade-olimpiadas.lidersys.com.br
SUMMARY:OBA (Olimpíada Brasileira de Astronomia e Astronáutica) – Divulgação dos Medalhistas – Apenas participantes
DESCRIPTION:Área temática: \n\nAstronomia\nAstronáutica\n\nPúblico alvo: \n\nEstudantes participantes da edição de 2026\n\nFinanciamento\, apoio e/ou organização: \n\nSociedade Astronômica Brasileira (SAB)\nAgência Espacial Brasileira (AEB)
URL:https://comunidade-olimpiadas.lidersys.com.br/event/oba-olimpiada-brasileira-de-astronomia-e-astronautica-divulgacao-dos-medalhistas-apenas-participantes/
CATEGORIES:Divulgações de Medalhistas
END:VEVENT
END:VCALENDAR