BEGIN:VCALENDAR
VERSION:2.0
PRODID:-//Plataforma de Colaboração para Olimpíadas Científicas - ECPv6.15.17//NONSGML v1.0//EN
CALSCALE:GREGORIAN
METHOD:PUBLISH
X-ORIGINAL-URL:https://comunidade-olimpiadas.lidersys.com.br
X-WR-CALDESC:Eventos para Plataforma de Colaboração para Olimpíadas Científicas
REFRESH-INTERVAL;VALUE=DURATION:PT1H
X-Robots-Tag:noindex
X-PUBLISHED-TTL:PT1H
BEGIN:VTIMEZONE
TZID:America/Sao_Paulo
BEGIN:STANDARD
TZOFFSETFROM:-0300
TZOFFSETTO:-0300
TZNAME:-03
DTSTART:20250101T000000
END:STANDARD
END:VTIMEZONE
BEGIN:VEVENT
DTSTART;TZID=America/Sao_Paulo:20260819T080000
DTEND;TZID=America/Sao_Paulo:20260831T170000
DTSTAMP:20260421T171757
CREATED:20260226T215229Z
LAST-MODIFIED:20260226T215229Z
UID:3675-1787126400-1788195600@comunidade-olimpiadas.lidersys.com.br
SUMMARY:OBMED (Olimpíada Brasileira de Medicina) – Aplicação das Provas – Apenas inscritos
DESCRIPTION:Área temática: \n\nCiências da Saúde\nMedicina\n\nPúblico alvo: \n\nEstudantes do Ensino Médio devidamente inscritos\n\nFinanciamento\, apoio e/ou organização: \n\n\nCoordenação Nacional da OBMED
URL:https://comunidade-olimpiadas.lidersys.com.br/event/obmed-olimpiada-brasileira-de-medicina-aplicacao-das-provas-apenas-inscritos/
CATEGORIES:Prova de Competição Nacional
END:VEVENT
END:VCALENDAR