BEGIN:VCALENDAR
VERSION:2.0
PRODID:-//Plataforma de Colaboração para Olimpíadas Científicas - ECPv6.15.17//NONSGML v1.0//EN
CALSCALE:GREGORIAN
METHOD:PUBLISH
X-ORIGINAL-URL:https://comunidade-olimpiadas.lidersys.com.br
X-WR-CALDESC:Eventos para Plataforma de Colaboração para Olimpíadas Científicas
REFRESH-INTERVAL;VALUE=DURATION:PT1H
X-Robots-Tag:noindex
X-PUBLISHED-TTL:PT1H
BEGIN:VTIMEZONE
TZID:America/Sao_Paulo
BEGIN:STANDARD
TZOFFSETFROM:-0300
TZOFFSETTO:-0300
TZNAME:-03
DTSTART:20240101T000000
END:STANDARD
END:VTIMEZONE
BEGIN:VEVENT
DTSTART;VALUE=DATE:20250515
DTEND;VALUE=DATE:20250516
DTSTAMP:20260422T161702
CREATED:20250317T124440Z
LAST-MODIFIED:20250630T195109Z
UID:752-1747267200-1747353599@comunidade-olimpiadas.lidersys.com.br
SUMMARY:Olimpíada Brasileira de Biologia (OBB) - Início Capacitação/Seletiva para as Olimpíadas Internacionais
DESCRIPTION:Área temática: \n\nBiologia\n\nPúblico-alvo:  \n\nEstudantes do Ensino Médio\n\nModalidades e fases:  \n\nTrês fases\n\nSeletiva para competição internacional  \n\nOlimpíada Ibero-Americana de Biologia (OIAB); Olimpíada Internacional de Biologia (IBO).\n\nFinanciamento\, apoio e/ou organização:  \n\nMEC; MCTI; CNPq; Gov. Estado SP; Instituto Butantan; Fundação Butantan; Escola Superior Instituto Butantan; FAPESP; CeTICS; Centre of Excellence in new target Discovery.
URL:https://comunidade-olimpiadas.lidersys.com.br/event/obb-capacitacao-seletiva-para-as-olimpiadas-internacionais/
CATEGORIES:Capacitação e/ou seletiva para as Olimpíadas Internacionais
ATTACH;FMTTYPE=image/png:https://comunidade-olimpiadas.lidersys.com.br/wp-content/uploads/2025/03/obb.png
END:VEVENT
BEGIN:VEVENT
DTSTART;VALUE=DATE:20250524
DTEND;VALUE=DATE:20250525
DTSTAMP:20260422T161702
CREATED:20250528T015843Z
LAST-MODIFIED:20250630T195019Z
UID:1858-1748044800-1748131199@comunidade-olimpiadas.lidersys.com.br
SUMMARY:Olimpíada Brasileira de Biologia (OBB) - Fim Capacitação/Seletiva para as Olimpíadas Internacionais
DESCRIPTION:Área temática: \n\nBiologia\n\nPúblico-alvo:  \n\nEstudantes do Ensino Médio\n\nModalidades e fases:  \n\nTrês fases\n\nSeletiva para competição internacional  \n\nOlimpíada Ibero-Americana de Biologia (OIAB); Olimpíada Internacional de Biologia (IBO).\n\nFinanciamento\, apoio e/ou organização:  \n\nMEC; MCTI; CNPq; Gov. Estado SP; Instituto Butantan; Fundação Butantan; Escola Superior Instituto Butantan; FAPESP; CeTICS; Centre of Excellence in new target Discovery.
URL:https://comunidade-olimpiadas.lidersys.com.br/event/olimpiada-brasileira-de-biologia-obb-fim-capacitacao-seletiva-para-as-olimpiadas-internacionais/
CATEGORIES:Capacitação e/ou seletiva para as Olimpíadas Internacionais
ATTACH;FMTTYPE=image/png:https://comunidade-olimpiadas.lidersys.com.br/wp-content/uploads/2025/03/obb.png
END:VEVENT
BEGIN:VEVENT
DTSTART;VALUE=DATE:20250526
DTEND;VALUE=DATE:20250527
DTSTAMP:20260422T161702
CREATED:20250317T124448Z
LAST-MODIFIED:20250630T202205Z
UID:787-1748217600-1748303999@comunidade-olimpiadas.lidersys.com.br
SUMMARY:Olimpíada Brasileira de Química (OBQ) - Início Curso de formação presencial e seleção final para competições internacionais
DESCRIPTION:Área temática: \n\nQuímica\n\nPúblico-alvo:  \n\nModalidade A – estudantes da 1ª e da 2ª série do Ensino Médio;\n\nModalidade B – estudantes das demais séries do Ensino Médio.\n\nModalidades e fases:  \n\nPrimeira etapa – Fase I – seleciona estudantes para a fase II\, ou para a fase III;\n\nPrimeira etapa – Fase II – Olimpíada Estadual;\n\nPrimeira etapa – Fase III – prova teórica em nível nacional.\n\nSegunda etapa – Fase IV – prova teórico-prática em formato de vídeo;\n\nSegunda etapa – Fase V – Curso de Aprofundamento e Excelência em Química;\n\nSegunda etapa – Fase VI – prova de seleção para Olimpíadas Internacionais.\n\nSeletiva para competição internacional  \n\nOlimpíada Internacional de Química (IChO); Olimpíada Ibero-Americana de Química (OIAQ)\n\nFinanciamento\, apoio e/ou organização:  \n\nUFC; UFPI; ABQ; CFQ; ABICLIM; ABICLOR; CNPq; MCTI; MEC
URL:https://comunidade-olimpiadas.lidersys.com.br/event/obq-curso-de-formacao-presencial-e-selecao-final-para-competicoes-internacionais/
CATEGORIES:Capacitação e/ou seletiva para as Olimpíadas Internacionais
ATTACH;FMTTYPE=image/png:https://comunidade-olimpiadas.lidersys.com.br/wp-content/uploads/2025/05/OBQ.png
END:VEVENT
END:VCALENDAR