BEGIN:VCALENDAR
VERSION:2.0
PRODID:-//Plataforma de Colaboração para Olimpíadas Científicas - ECPv6.15.17//NONSGML v1.0//EN
CALSCALE:GREGORIAN
METHOD:PUBLISH
X-WR-CALNAME:Plataforma de Colaboração para Olimpíadas Científicas
X-ORIGINAL-URL:https://comunidade-olimpiadas.lidersys.com.br
X-WR-CALDESC:Eventos para Plataforma de Colaboração para Olimpíadas Científicas
REFRESH-INTERVAL;VALUE=DURATION:PT1H
X-Robots-Tag:noindex
X-PUBLISHED-TTL:PT1H
BEGIN:VTIMEZONE
TZID:America/Sao_Paulo
BEGIN:STANDARD
TZOFFSETFROM:-0300
TZOFFSETTO:-0300
TZNAME:-03
DTSTART:20240101T000000
END:STANDARD
END:VTIMEZONE
BEGIN:VEVENT
DTSTART;VALUE=DATE:20250330
DTEND;VALUE=DATE:20250331
DTSTAMP:20260422T191242
CREATED:20250513T192116Z
LAST-MODIFIED:20250831T130715Z
UID:1388-1743292800-1743379199@comunidade-olimpiadas.lidersys.com.br
SUMMARY:IYPT Brasil - Prazo para envio de vídeos Torneio Internacional
DESCRIPTION:Área temática: \n\nFísica\n\nPúblico-alvo:  \n\nEstudantes do Ensino Médio\n\nModalidades e fases:  \n\nPrimeira Fase: Relatórios e Vídeos\n\nSegunda Fase: Fast Fights (FF)\n\nTerceira Fase: Torneio Nacional\n\nSeletiva para Olimpíada Internacional:  \n\nInternational Young Physicists’ Tournament (IYPT)\n\nFinanciamento\, apoio e/ou organização:  \n\nSBF; Fundação Behring; Fundação Estudar; b projetos
URL:https://comunidade-olimpiadas.lidersys.com.br/event/iypt-brasil-prazo-para-envio-de-videos-torneio-internacional/
CATEGORIES:Capacitação e/ou seletiva para as Olimpíadas Internacionais
ATTACH;FMTTYPE=image/png:https://comunidade-olimpiadas.lidersys.com.br/wp-content/uploads/2025/05/IYPT.png
END:VEVENT
END:VCALENDAR