BEGIN:VCALENDAR
VERSION:2.0
PRODID:-//Plataforma de Colaboração para Olimpíadas Científicas - ECPv6.15.20//NONSGML v1.0//EN
CALSCALE:GREGORIAN
METHOD:PUBLISH
X-ORIGINAL-URL:https://comunidade-olimpiadas.lidersys.com.br
X-WR-CALDESC:Eventos para Plataforma de Colaboração para Olimpíadas Científicas
REFRESH-INTERVAL;VALUE=DURATION:PT1H
X-Robots-Tag:noindex
X-PUBLISHED-TTL:PT1H
BEGIN:VTIMEZONE
TZID:America/Sao_Paulo
BEGIN:STANDARD
TZOFFSETFROM:-0300
TZOFFSETTO:-0300
TZNAME:-03
DTSTART:20240101T000000
END:STANDARD
END:VTIMEZONE
BEGIN:VEVENT
DTSTART;VALUE=DATE:20250801
DTEND;VALUE=DATE:20250802
DTSTAMP:20260424T092230
CREATED:20250630T201309Z
LAST-MODIFIED:20250630T201309Z
UID:2753-1754006400-1754092799@comunidade-olimpiadas.lidersys.com.br
SUMMARY:Olimpíada Brasileira de Física (OBF) - Prazo para pagamento de taxa segunda fase
DESCRIPTION:Área temática: \n\nFísica\n\nPúblico-alvo:  \n\nNível Junior: estudantes do 6° ou 7º ano do Ensino Fundamental;\n\nNível I: estudantes do 8º ou 9º ano do Ensino Fundamental;\n\nNível II: estudantes da 1ª ou 2ª serie do Ensino Médio;\n\nNível III: estudantes da 3ª serie do Ensino Médio.\n\nModalidades e fases:  \n\nTrês fases\n\nSeletiva para competição internacional  \n\nInternational Physics Olympiad (IPhO);\n\nOlimpíada Iberoamericana de Física (OIbF);\n\nEuropean Physics Olympiad (EuPhO).\n\nFinanciamento\, apoio e/ou organização:  \n\nSBF; BTG Pactual
URL:https://comunidade-olimpiadas.lidersys.com.br/event/olimpiada-brasileira-de-fisica-obf-prazo-para-pagamento-de-taxa-segunda-fase/
CATEGORIES:Início e Fim de Inscrições
ATTACH;FMTTYPE=image/png:https://comunidade-olimpiadas.lidersys.com.br/wp-content/uploads/2025/05/OBF.png
END:VEVENT
BEGIN:VEVENT
DTSTART;VALUE=DATE:20250801
DTEND;VALUE=DATE:20250802
DTSTAMP:20260424T092230
CREATED:20250831T141538Z
LAST-MODIFIED:20250831T141538Z
UID:3216-1754006400-1754092799@comunidade-olimpiadas.lidersys.com.br
SUMMARY:Olimpíada Nacional de Eficiência Energética (ONEE) - Início de inscrições
DESCRIPTION:Área temática: \n\nEficiência Energética\n\nPúblico-alvo:  \n\nEstudantes do 8º e 9º ano do Ensino Fundamental\n\nModalidades e fases:  \n\nDuas fases\n\nFinanciamento\, apoio e/ou organização:  \n\niABRADEE; EDP; ANEEL; Distribuidoras de energia
URL:https://comunidade-olimpiadas.lidersys.com.br/event/olimpiada-nacional-de-eficiencia-energetica-onee-inicio-de-inscricoes/
CATEGORIES:Início e Fim de Inscrições
END:VEVENT
BEGIN:VEVENT
DTSTART;VALUE=DATE:20250805
DTEND;VALUE=DATE:20250806
DTSTAMP:20260424T092230
CREATED:20250513T141349Z
LAST-MODIFIED:20250831T095752Z
UID:1225-1754352000-1754438399@comunidade-olimpiadas.lidersys.com.br
SUMMARY:Olimpíada Camaleão de Química (OCQ) - Fim de inscrições [CANCELADA]
DESCRIPTION:Área temática: \n\nQuímica\n\nPúblico-alvo:  \n\nNível A: estudantes do 5° ao 9° ano do Ensino Fundamental;\n\nNível B: estudantes do Ensino Médio;\n\nNível C: pessoas que concluíram o Ensino Médio\, sem restrição de idade (Categoria Livre).\n\nModalidades e fases:  \n\nDuas fases
URL:https://comunidade-olimpiadas.lidersys.com.br/event/ocq-fim-de-inscricoes/
CATEGORIES:Início e Fim de Inscrições
ATTACH;FMTTYPE=image/png:https://comunidade-olimpiadas.lidersys.com.br/wp-content/uploads/2025/05/OCQ.png
END:VEVENT
BEGIN:VEVENT
DTSTART;VALUE=DATE:20250808
DTEND;VALUE=DATE:20250809
DTSTAMP:20260424T092230
CREATED:20250831T145506Z
LAST-MODIFIED:20250831T145506Z
UID:3247-1754611200-1754697599@comunidade-olimpiadas.lidersys.com.br
SUMMARY:Olimpíada Brasileira On Line de Astronomia (OBOA) - Fim de Inscrições
DESCRIPTION:Área temática: \n\nAstronomia\n\nPúblico-alvo:  \n\nNível João Steiner – estudantes do 8º e 9º ano do Ensino Fundamental\nNível Rubens de Azevedo – estudantes do Ensino Médio\nCategoria aberta – aberta a qualquer pessoa\n\nModalidades e fases:  \n\nDuas fases\n\nFinanciamento\, apoio e/ou organização:  \n\nNOIC; ABF AstroBioFísica
URL:https://comunidade-olimpiadas.lidersys.com.br/event/olimpiada-brasileira-on-line-de-astronomia-oboa-fim-de-inscricoes/
CATEGORIES:Início e Fim de Inscrições
END:VEVENT
BEGIN:VEVENT
DTSTART;VALUE=DATE:20250810
DTEND;VALUE=DATE:20250811
DTSTAMP:20260424T092230
CREATED:20250831T100751Z
LAST-MODIFIED:20250831T100751Z
UID:3058-1754784000-1754870399@comunidade-olimpiadas.lidersys.com.br
SUMMARY:Competição Brasileira de Robótica (CBR) - Fim Inscrições
DESCRIPTION:Área temática: \n\nRobótica\n\nPúblico-alvo:  \n\nCategorias:\n\nRoboCup Soccer\n\nRoboCup Flying Robots League\n\nRoboCup @Work – estudantes do Ensino Médio\, universitários e pós-graduandos\n\nRoboCup @Home\n\nRCB Challenge – estudantes do Ensino Médio e universitários;\n\nRoboCupJunior – estudantes do Ensino Fundamental\, Médio e Técnico\n\nModalidades e fases:  \n\nRoboCup Soccer;\n\nRoboCup Flying Robots League\n\nRoboCup @Work – Duas fases e final\n\nRoboCup @Home – Duas fases e final\n\nRCB Challenge\n\nRoboCupJunior \n\nFinanciamento\, apoio e/ou organização:  \n\nUFG; AKCIT; RoboCup Brasil; RoboCup; RoboCup Jr; SBC; FEI; IFRN; Prefeitura de Porto Alegre; IFSP; UFPEL; CEFET/RJ; UFPR; FURG; FAPEG; Ibis Styles; Goiânia…; RBOOH; Unimed Goiânia; Infineon; Positivo; Open Datacenter; Fundação Behring; Fundação Itaú; CEIA; FUNAPE; SECTI/Governo de Goiás; CNPq; Petrobrás; MCTI
URL:https://comunidade-olimpiadas.lidersys.com.br/event/competicao-brasileira-de-robotica-cbr-fim-inscricoes/
CATEGORIES:Início e Fim de Inscrições
ATTACH;FMTTYPE=image/png:https://comunidade-olimpiadas.lidersys.com.br/wp-content/uploads/2025/05/CBR.png
END:VEVENT
BEGIN:VEVENT
DTSTART;VALUE=DATE:20250812
DTEND;VALUE=DATE:20250813
DTSTAMP:20260424T092230
CREATED:20250317T123946Z
LAST-MODIFIED:20250630T194912Z
UID:735-1754956800-1755043199@comunidade-olimpiadas.lidersys.com.br
SUMMARY:Olimpíada Nacional de Ciências (ONC) - Fim de inscrições
DESCRIPTION:Área temática: \n\nCiências\n\nPúblico-alvo:  \n\nEnsino Fundamental I (3º\, 4º e 5º anos); fundamental II (6º\, 7º\, 8º ou 9º ano); no Ensino Médio (1ª\, 2ª ou 3ª série); e estudantes da 4ª série do Ensino Técnico; EJANível Kids\, correspondente a estudantes do 3º\, 4º e 5º anos do ensino fundamental;\n\nNível A – estudantes do 6º e 7º ano do Ensino Fundamental;\n\nNível B – estudantes do 8º e 9º ano do Ensino Fundamental;\n\nNível C – estudantes da 1ª série do Ensino Médio;\n\nNível D – estudantes da 2ª série do Ensino Médio; e\n\nNível E – estudantes da 3ª série do Ensino Médio e 4ª série do Ensino Técnico;\n\nModalidades e fases:  \nDuas fases \nFinanciamento\, apoio e/ou organização:  \n\nUFPI; MCTI; ABQ; Departamento de História da Unicamp; Instituto Butantan; SAB; SBF; FADEX; UNFPA; UFMA; CLA; Petrobrás
URL:https://comunidade-olimpiadas.lidersys.com.br/event/onc-fim-de-inscricoes/
CATEGORIES:Início e Fim de Inscrições
ATTACH;FMTTYPE=image/png:https://comunidade-olimpiadas.lidersys.com.br/wp-content/uploads/2025/03/onc.png
END:VEVENT
BEGIN:VEVENT
DTSTART;VALUE=DATE:20250814
DTEND;VALUE=DATE:20250815
DTSTAMP:20260424T092230
CREATED:20250513T160859Z
LAST-MODIFIED:20250831T124824Z
UID:1311-1755129600-1755215999@comunidade-olimpiadas.lidersys.com.br
SUMMARY:Olimpíada de Literatura (OL) - Início de inscrições
DESCRIPTION:Área temática: \n\nLiteratura\n\nPúblico-alvo:  \n\nCategoria Candura: Até 9 anos de idade;\n\nCategoria Mirim: Até 12 anos de idade;\n\nCategoria Júnior: Até 16 anos de idade;\n\nCategoria Sênior: A partir de 17 anos de idade;\n\nCategoria Ouro: A partir de 17 anos de idade;\n\nCategoria Cinema;\nCategorias Inglês e Espanhol.\n\nModalidades e fases:  \n\nFase única\n\nFinanciamento\, apoio e/ou organização:  \n\nInstituto Philotimia; Academia Paranaense de Letras; Brasil Escola
URL:https://comunidade-olimpiadas.lidersys.com.br/event/ol-inicio-de-inscricoes/
CATEGORIES:Início e Fim de Inscrições
ATTACH;FMTTYPE=image/png:https://comunidade-olimpiadas.lidersys.com.br/wp-content/uploads/2025/05/OL.png
END:VEVENT
BEGIN:VEVENT
DTSTART;VALUE=DATE:20250815
DTEND;VALUE=DATE:20250816
DTSTAMP:20260424T092230
CREATED:20250513T193828Z
LAST-MODIFIED:20250831T131137Z
UID:1410-1755216000-1755302399@comunidade-olimpiadas.lidersys.com.br
SUMMARY:Torneio de Física para Meninas (TFM) - Fim de inscrições
DESCRIPTION:Área temática: \n\nFísica\n\nPúblico-alvo:  \n\nEstudantes do Ensino Médio que se identificam com o gênero feminino \n\nModalidades e fases:  \n\nDuas fases\n\nFinanciamento\, apoio e/ou organização:  \n\nIIF; Movimento Meninas Olímpicas; IFNMG; IFC; UFSM; OBF; SBF; CNPq; Governo Federal
URL:https://comunidade-olimpiadas.lidersys.com.br/event/tfm-fim-de-inscricoes/
CATEGORIES:Início e Fim de Inscrições
ATTACH;FMTTYPE=image/png:https://comunidade-olimpiadas.lidersys.com.br/wp-content/uploads/2025/05/TFM.png
END:VEVENT
BEGIN:VEVENT
DTSTART;VALUE=DATE:20250818
DTEND;VALUE=DATE:20250819
DTSTAMP:20260424T092230
CREATED:20250830T015005Z
LAST-MODIFIED:20250830T015005Z
UID:2973-1755475200-1755561599@comunidade-olimpiadas.lidersys.com.br
SUMMARY:Olimpíada Brasileira de Saúde e Meio Ambiente (OBSMA) - Início de inscrições
DESCRIPTION:Área temática: \n\nSaúde e Meio Ambiente\n\nPúblico-alvo:  \n\nEstudantes do 6° ao 9° ano do Ensino Fundamental\nEstudantes do Ensino Médio\n\nModalidades e fases:  \n\nTrês modalidades: Audiovisual; Projeto de ciências; Produção de texto\n\nFinanciamento\, apoio e/ou organização:  \n\nCNPq; Fiocruz; SUS; Ministério da Saúde
URL:https://comunidade-olimpiadas.lidersys.com.br/event/olimpiada-brasileira-de-saude-e-meio-ambiente-obsma-inicio-de-inscricoes/
CATEGORIES:Início e Fim de Inscrições
END:VEVENT
BEGIN:VEVENT
DTSTART;VALUE=DATE:20250820
DTEND;VALUE=DATE:20250821
DTSTAMP:20260424T092230
CREATED:20250513T165424Z
LAST-MODIFIED:20250831T125239Z
UID:1341-1755648000-1755734399@comunidade-olimpiadas.lidersys.com.br
SUMMARY:Torneio Nacional de Biologia (TNBio) - Fim de inscrições
DESCRIPTION:Área temática: \n\nBiologia\n\nPúblico-alvo:  \n\nNível 1: estudantes do 6º e 7º anos do ensino fundamental;\nNível 2: estudantes do 8º e 9º anos do ensino fundamental;\n\nNível 3: estudantes do ensino médio e 4º ano técnico; e\n\nNível Livre: Categoria exclusiva para adultos e para aqueles que já concluíram a educação básica.\n\nModalidades e fases:  \n\nFase única\n\nFinanciamento\, apoio e/ou organização:  \n\nSeleta Educação
URL:https://comunidade-olimpiadas.lidersys.com.br/event/tnbio-fim-de-inscricoes/
CATEGORIES:Início e Fim de Inscrições
ATTACH;FMTTYPE=image/png:https://comunidade-olimpiadas.lidersys.com.br/wp-content/uploads/2025/05/TNBio.png
END:VEVENT
BEGIN:VEVENT
DTSTART;VALUE=DATE:20250820
DTEND;VALUE=DATE:20250821
DTSTAMP:20260424T092230
CREATED:20250831T150119Z
LAST-MODIFIED:20250831T150214Z
UID:3255-1755648000-1755734399@comunidade-olimpiadas.lidersys.com.br
SUMMARY:Olimpíada Brasileira Online de Química (OBOQ) - Fim de inscrições
DESCRIPTION:Área temática: \n\nQuímica\n\nPúblico-alvo:  \n\nNível 1: estudantes do 6º ao 9º ano do Ensino Fundamental\nNível 2: estudantes do 1º ou 2º ano do Ensino Médio\nNível 3: estudantes do 3º ano do Ensino Médio e medalhistas de ouro da OBQ – Modalidade A de qualquer série\nCategoria Aberta: qualquer pessoa \n\nModalidades e fases:  \n\nTrês fases\n\nFinanciamento\, apoio e/ou organização:  \n\nNOIC
URL:https://comunidade-olimpiadas.lidersys.com.br/event/olimpiada-brasileira-online-de-quimica-oboq-fim-de-inscricoes/
CATEGORIES:Início e Fim de Inscrições
END:VEVENT
BEGIN:VEVENT
DTSTART;VALUE=DATE:20250823
DTEND;VALUE=DATE:20250824
DTSTAMP:20260424T092230
CREATED:20250513T154902Z
LAST-MODIFIED:20250831T100440Z
UID:1280-1755907200-1755993599@comunidade-olimpiadas.lidersys.com.br
SUMMARY:Cora - Competição de Robôs Autônomos - Fim de inscrições
DESCRIPTION:Área temática: \n\nRobótica\n\nPúblico-alvo:  \n\n Seguidor de Linha Avançada: a partir do 9º ano do Ensino Fundamental\, Ensino Médio\, Ensino Técnico e Graduação\n\nSeguidor de Linha Mirim: equipes com alunos do 5º ao 8º ano do Ensino Fundamental\n\nRobô Sumô: equipes com integrantes do Ensino Fundamental\, Ensino Médio\,\n\nEnsino Técnico e Graduação\n\nModalidades e fases:  \n\nSeguidor de Linha Mirim – Arrancada; Classificatórias; Repescagem; Final\n\nSeguidor de Linha Avançado – Arrancada; Classificatórias; Repescagem; Final\n\nRobô Sumô – fase de grupos\, semifinais e etapas de premiação\n\nFinanciamento\, apoio e/ou organização:  \n\nPETEE-UFMG; UFMG
URL:https://comunidade-olimpiadas.lidersys.com.br/event/cora-fim-de-inscricoes/
CATEGORIES:Início e Fim de Inscrições
ATTACH;FMTTYPE=image/png:https://comunidade-olimpiadas.lidersys.com.br/wp-content/uploads/2025/05/cora.png
END:VEVENT
BEGIN:VEVENT
DTSTART;VALUE=DATE:20250823
DTEND;VALUE=DATE:20250824
DTSTAMP:20260424T092230
CREATED:20250513T155146Z
LAST-MODIFIED:20250831T123833Z
UID:1284-1755907200-1755993599@comunidade-olimpiadas.lidersys.com.br
SUMMARY:Maratona SBC de Programação - Fim de inscrições
DESCRIPTION:Área temática: \n\nProgramação\n\nPúblico-alvo:  \n\nTer iniciado o primeiro curso superior há no máximo 5 anos ou completar no máximo 23 anos de idade no ano da competição\n\nModalidades e fases:  \n\nFase zero (online\, facultativa)\n\nPrimeira Fase\n\nFinal Nacional\n\nSeletiva para Olimpíada Internacional:  \n\nInternational Collegiate Programming Contest (ICPC) – ICPC Latin America Champions\n\nFinanciamento\, apoio e/ou organização:  \n\nSBF; Fundação Behring; Fundação Estudar; b projetos
URL:https://comunidade-olimpiadas.lidersys.com.br/event/maratona-sbc-de-programacao-inicio-de-inscricoes/
CATEGORIES:Início e Fim de Inscrições
ATTACH;FMTTYPE=image/png:https://comunidade-olimpiadas.lidersys.com.br/wp-content/uploads/2025/05/sbc.png
END:VEVENT
BEGIN:VEVENT
DTSTART;VALUE=DATE:20250831
DTEND;VALUE=DATE:20250901
DTSTAMP:20260424T092230
CREATED:20250831T132900Z
LAST-MODIFIED:20250831T132900Z
UID:3187-1756598400-1756684799@comunidade-olimpiadas.lidersys.com.br
SUMMARY:Olimpíada Brasileira de Biologia Sintética (OBBS) - Fim de inscrições
DESCRIPTION:Área temática: \n\nBiologia sintética\n\nPúblico-alvo:  \n\nCategoria Regular: estudantes do Ensino Médio\nCategoria Aberta: estudantes do Ensino Fundamental\n\nModalidades e fases:  \n\nDuas fases\n\nFinanciamento\, apoio e/ou organização:  \n\nUNESP; UFABC; UnB; SynBioBR; Instituto Vertere; PROEC/UNESP; CNPq
URL:https://comunidade-olimpiadas.lidersys.com.br/event/olimpiada-brasileira-de-biologia-sintetica-obbs-fim-de-inscricoes/
CATEGORIES:Início e Fim de Inscrições
END:VEVENT
BEGIN:VEVENT
DTSTART;VALUE=DATE:20250831
DTEND;VALUE=DATE:20250901
DTSTAMP:20260424T092230
CREATED:20250831T151139Z
LAST-MODIFIED:20250831T151139Z
UID:3268-1756598400-1756684799@comunidade-olimpiadas.lidersys.com.br
SUMMARY:Olimpíada de Empreendedorismo (OE) - Fim de inscrições
DESCRIPTION:Área temática: \n\nEmpreendedorismo\n\nPúblico-alvo:  \n\nEnsino Fundamental – Anos Finais: estudantes do 6º ao 9º ano\nEnsino Médio: estudantes do 1º ao 3º ano\n\nModalidades e fases:  \n\nTrês etapas\n\nFinanciamento\, apoio e/ou organização:  \n\nCNPq; MCTI; UFES; USP; UNINASSAU; Você Sabia?; Davi Braga; Pyong Lee; Estudando.com; Medalhei; IB; Cristiana Arcangeli; CDN; Escola M60
URL:https://comunidade-olimpiadas.lidersys.com.br/event/olimpiada-de-empreendedorismo-oe-fim-de-inscricoes/
CATEGORIES:Início e Fim de Inscrições
END:VEVENT
BEGIN:VEVENT
DTSTART;VALUE=DATE:20250831
DTEND;VALUE=DATE:20250901
DTSTAMP:20260424T092230
CREATED:20250831T152452Z
LAST-MODIFIED:20250831T152452Z
UID:3277-1756598400-1756684799@comunidade-olimpiadas.lidersys.com.br
SUMMARY:Maratona Cactus de Matemática - Início de Inscrições
DESCRIPTION:Área temática: \n\nMatemática\n\nPúblico-alvo:  \n\nEstudantes do 3º ao 9º ano do Ensino Fundamental\n\nFinanciamento\, apoio e/ou organização:  \n\nAssociação Cactus
URL:https://comunidade-olimpiadas.lidersys.com.br/event/maratona-cactus-de-matematica-inicio-de-inscricoes/
CATEGORIES:Início e Fim de Inscrições
END:VEVENT
BEGIN:VEVENT
DTSTART;TZID=America/Sao_Paulo:20250831T080000
DTEND;TZID=America/Sao_Paulo:20250831T170000
DTSTAMP:20260424T092230
CREATED:20250831T150017Z
LAST-MODIFIED:20250831T150017Z
UID:3253-1756627200-1756659600@comunidade-olimpiadas.lidersys.com.br
SUMMARY:Olimpíada Brasileira Online de Química (OBOQ) - Início de inscrições
DESCRIPTION:Área temática: \n\nQuímica\n\nPúblico-alvo:  \n\nNível 1: estudantes do 6º ao 9º ano do Ensino Fundamental\nNível 2: estudantes do 1º ou 2º ano do Ensino Médio\nNível 3: estudantes do 3º ano do Ensino Médio e medalhistas de ouro da OBQ – Modalidade A de qualquer série\nCategoria Aberta: qualquer pessoa \n\nModalidades e fases:  \n\nDuas fases\n\nFinanciamento\, apoio e/ou organização:  \n\nNOIC
URL:https://comunidade-olimpiadas.lidersys.com.br/event/olimpiada-brasileira-online-de-quimica-oboq-inicio-de-inscricoes/
CATEGORIES:Início e Fim de Inscrições
END:VEVENT
END:VCALENDAR