BEGIN:VCALENDAR
VERSION:2.0
PRODID:-//Plataforma de Colaboração para Olimpíadas Científicas - ECPv6.15.17//NONSGML v1.0//EN
CALSCALE:GREGORIAN
METHOD:PUBLISH
X-ORIGINAL-URL:https://comunidade-olimpiadas.lidersys.com.br
X-WR-CALDESC:Eventos para Plataforma de Colaboração para Olimpíadas Científicas
REFRESH-INTERVAL;VALUE=DURATION:PT1H
X-Robots-Tag:noindex
X-PUBLISHED-TTL:PT1H
BEGIN:VTIMEZONE
TZID:America/Sao_Paulo
BEGIN:STANDARD
TZOFFSETFROM:-0300
TZOFFSETTO:-0300
TZNAME:-03
DTSTART:20250101T000000
END:STANDARD
END:VTIMEZONE
BEGIN:VEVENT
DTSTART;VALUE=DATE:20260501
DTEND;VALUE=DATE:20260502
DTSTAMP:20260421T144608
CREATED:20260226T205853Z
LAST-MODIFIED:20260226T205853Z
UID:3663-1777593600-1777679999@comunidade-olimpiadas.lidersys.com.br
SUMMARY:OBA (Olimpíada Brasileira de Astronomia e Astronáutica) e OBAFOG – Encerramento das Inscrições
DESCRIPTION:Área temática: \n\nAstronomia e Astronáutica\n\nPúblico-alvo: \n\nEstudantes do Ensino Fundamental e Ensino Médio de escolas públicas e particulares de todo o país.\n\nFinanciamento\, apoio e/ou organização: \n\n\nSociedade Astronômica Brasileira (SAB) \n\n\nAgência Espacial Brasileira (AEB)
URL:https://comunidade-olimpiadas.lidersys.com.br/event/oba-olimpiada-brasileira-de-astronomia-e-astronautica-e-obafog-encerramento-das-inscricoes/
CATEGORIES:Início e Fim de Inscrições
END:VEVENT
END:VCALENDAR