BEGIN:VCALENDAR
VERSION:2.0
PRODID:-//Plataforma de Colaboração para Olimpíadas Científicas - ECPv6.15.20//NONSGML v1.0//EN
CALSCALE:GREGORIAN
METHOD:PUBLISH
X-WR-CALNAME:Plataforma de Colaboração para Olimpíadas Científicas
X-ORIGINAL-URL:https://comunidade-olimpiadas.lidersys.com.br
X-WR-CALDESC:Eventos para Plataforma de Colaboração para Olimpíadas Científicas
REFRESH-INTERVAL;VALUE=DURATION:PT1H
X-Robots-Tag:noindex
X-PUBLISHED-TTL:PT1H
BEGIN:VTIMEZONE
TZID:America/Sao_Paulo
BEGIN:STANDARD
TZOFFSETFROM:-0300
TZOFFSETTO:-0300
TZNAME:-03
DTSTART:20240101T000000
END:STANDARD
END:VTIMEZONE
BEGIN:VEVENT
DTSTART;VALUE=DATE:20250203
DTEND;VALUE=DATE:20250204
DTSTAMP:20260424T192118
CREATED:20250317T124709Z
LAST-MODIFIED:20250701T201731Z
UID:807-1738540800-1738627199@comunidade-olimpiadas.lidersys.com.br
SUMMARY:Olimpíada Brasileira de Agropecuária (OBAP) - Início de inscrições
DESCRIPTION:Área temática: \n\nAgropecuária\n\nPúblico-alvo:  \n\nEstudantes do ensino técnico integrado/concomitante e técnico subsequente dos Eixos Tecnológicos: Ambiente e Saúde\, Produção Alimentícia\, Recursos Naturais e áreas afins\n\nModalidades e fases:  \n\nFase virtual\n\nFase presencial – Etapa prática\n\nFase presencial – Etapa teórica\n\nSeletiva para Olimpíada Internacional:  \n\nJá ocorreu participação na International Earth Science Olympiad (IESO)\, mas não é prática anual.\n\nFinanciamento\, apoio e/ou organização:  \n\nIFSULDEMINAS; CNPq; MEC; MCTI
URL:https://comunidade-olimpiadas.lidersys.com.br/event/obap-inicio-de-inscricoes/
CATEGORIES:Início e Fim de Inscrições
ATTACH;FMTTYPE=image/png:https://comunidade-olimpiadas.lidersys.com.br/wp-content/uploads/2025/03/obap.png
END:VEVENT
BEGIN:VEVENT
DTSTART;VALUE=DATE:20250203
DTEND;VALUE=DATE:20250204
DTSTAMP:20260424T192118
CREATED:20250317T124712Z
LAST-MODIFIED:20250630T202526Z
UID:789-1738540800-1738627199@comunidade-olimpiadas.lidersys.com.br
SUMMARY:Olimpíada Nacional em História do Brasil (ONHB) - Início de inscrições
DESCRIPTION:Área temática: \n\nHistória\n\nPúblico-alvo:  \n\nEstudantes do 8° e 9° anos do Ensino Fundamental;\n\nEstudantes do Ensino Médio.\n\nModalidades e fases:  \n\nSeis fases – provas on-line\n\nUma fase – prova final\n\nFinanciamento\, apoio e/ou organização:  \n\nUnicamp; ANPUH; Departamento de História – IFCH/Unicamp; Programa de Pós-graduação em História da Unicamp; SAE Unicamp
URL:https://comunidade-olimpiadas.lidersys.com.br/event/onhb-inicio-de-inscricoes/
CATEGORIES:Início e Fim de Inscrições
ATTACH;FMTTYPE=image/png:https://comunidade-olimpiadas.lidersys.com.br/wp-content/uploads/2025/03/onc-1.png
END:VEVENT
END:VCALENDAR