BEGIN:VCALENDAR
VERSION:2.0
PRODID:-//Plataforma de Colaboração para Olimpíadas Científicas - ECPv6.15.20//NONSGML v1.0//EN
CALSCALE:GREGORIAN
METHOD:PUBLISH
X-WR-CALNAME:Plataforma de Colaboração para Olimpíadas Científicas
X-ORIGINAL-URL:https://comunidade-olimpiadas.lidersys.com.br
X-WR-CALDESC:Eventos para Plataforma de Colaboração para Olimpíadas Científicas
REFRESH-INTERVAL;VALUE=DURATION:PT1H
X-Robots-Tag:noindex
X-PUBLISHED-TTL:PT1H
BEGIN:VTIMEZONE
TZID:America/Sao_Paulo
BEGIN:STANDARD
TZOFFSETFROM:-0300
TZOFFSETTO:-0300
TZNAME:-03
DTSTART:20240101T000000
END:STANDARD
END:VTIMEZONE
BEGIN:VEVENT
DTSTART;VALUE=DATE:20250515
DTEND;VALUE=DATE:20250516
DTSTAMP:20260424T152311
CREATED:20250317T124457Z
LAST-MODIFIED:20250701T201737Z
UID:809-1747267200-1747353599@comunidade-olimpiadas.lidersys.com.br
SUMMARY:Olimpíada Brasileira de Agropecuária (OBAP) - Fim de inscrições
DESCRIPTION:Área temática: \n\nAgropecuária\n\nPúblico-alvo:  \n\nEstudantes do ensino técnico integrado/concomitante e técnico subsequente dos Eixos Tecnológicos: Ambiente e Saúde\, Produção Alimentícia\, Recursos Naturais e áreas afins\n\nModalidades e fases:  \n\nFase virtual\n\nFase presencial – Etapa prática\n\nFase presencial – Etapa teórica\n\nSeletiva para Olimpíada Internacional:  \n\nJá ocorreu participação na International Earth Science Olympiad (IESO)\, mas não é prática anual.\n\nFinanciamento\, apoio e/ou organização:  \n\nIFSULDEMINAS; CNPq; MEC; MCTI
URL:https://comunidade-olimpiadas.lidersys.com.br/event/obap-fim-de-inscricoes/
CATEGORIES:Início e Fim de Inscrições
ATTACH;FMTTYPE=image/png:https://comunidade-olimpiadas.lidersys.com.br/wp-content/uploads/2025/03/obap.png
END:VEVENT
BEGIN:VEVENT
DTSTART;VALUE=DATE:20250515
DTEND;VALUE=DATE:20250516
DTSTAMP:20260424T152311
CREATED:20250513T165752Z
LAST-MODIFIED:20250831T125639Z
UID:1347-1747267200-1747353599@comunidade-olimpiadas.lidersys.com.br
SUMMARY:Olimpíada Brasileira de Restauração de Ecossistemas (Restaura Natureza) - Fim de inscrições
DESCRIPTION:Área temática: \n\nRestauração de ecossistemas\n\nPúblico-alvo:  \n\nEstudantes do 7º\, 8º e 9º ano do Ensino Fundamental;\nEstudantes do 1º e 2º ano do Ensino Médio.\n\nModalidades e fases:  \n\nDuas etapas\n\nFinanciamento\, apoio e/ou organização:  \n\nWWF-Brasil; Associação Quero na Escola; ONU; Maurício de Souza Produções; Rebre sobre rebre; Criativas na escola – Design for change; Ecofalante; Aegea
URL:https://comunidade-olimpiadas.lidersys.com.br/event/restaura-natureza-fim-de-inscricoes/
CATEGORIES:Início e Fim de Inscrições
ATTACH;FMTTYPE=image/png:https://comunidade-olimpiadas.lidersys.com.br/wp-content/uploads/2025/05/Restaura-natureza.png
END:VEVENT
END:VCALENDAR