BEGIN:VCALENDAR
VERSION:2.0
PRODID:-//Plataforma de Colaboração para Olimpíadas Científicas - ECPv6.15.20//NONSGML v1.0//EN
CALSCALE:GREGORIAN
METHOD:PUBLISH
X-ORIGINAL-URL:https://comunidade-olimpiadas.lidersys.com.br
X-WR-CALDESC:Eventos para Plataforma de Colaboração para Olimpíadas Científicas
REFRESH-INTERVAL;VALUE=DURATION:PT1H
X-Robots-Tag:noindex
X-PUBLISHED-TTL:PT1H
BEGIN:VTIMEZONE
TZID:America/Sao_Paulo
BEGIN:STANDARD
TZOFFSETFROM:-0300
TZOFFSETTO:-0300
TZNAME:-03
DTSTART:20240101T000000
END:STANDARD
END:VTIMEZONE
BEGIN:VEVENT
DTSTART;VALUE=DATE:20250601
DTEND;VALUE=DATE:20250602
DTSTAMP:20260424T135618
CREATED:20250513T014727Z
LAST-MODIFIED:20250830T230938Z
UID:1120-1748736000-1748822399@comunidade-olimpiadas.lidersys.com.br
SUMMARY:Olimpíada Brasileira do Ensino Superior de Química (OBESQ) - Início de inscrições
DESCRIPTION:Área temática: \n\nQuímica\n\nPúblico-alvo: \n\nEstudantes do Ensino Superior\n\nModalidades e fases:  \n\nDuas fases\n\nFinanciamento\, apoio e/ou organização:  \n\nCNPq; CFQ; Abiclor; Abiquim; MEC; MCTI; UFC; UFPI; ABQ
URL:https://comunidade-olimpiadas.lidersys.com.br/event/obesq-inicio-de-inscricoes/
CATEGORIES:Início e Fim de Inscrições
ATTACH;FMTTYPE=image/png:https://comunidade-olimpiadas.lidersys.com.br/wp-content/uploads/2025/05/OBESQ.png
END:VEVENT
BEGIN:VEVENT
DTSTART;VALUE=DATE:20250601
DTEND;VALUE=DATE:20250602
DTSTAMP:20260424T135618
CREATED:20250513T170747Z
LAST-MODIFIED:20250831T130305Z
UID:1371-1748736000-1748822399@comunidade-olimpiadas.lidersys.com.br
SUMMARY:Olimpíada Brasileira de Administração (OBADM) - Fim de inscrições
DESCRIPTION:Área temática: \n\nAdministração\n\nPúblico-alvo:  \n\nEstudantes do Ensino Médio\n\nEstudantes do Ensino Técnico\n\nEstudantes do Ensino Superior\n\nProfissionais\n\nModalidades e fases:  \n\nDuas fases\n\nFinanciamento\, apoio e/ou organização:  \n\nCRA-RJ; BTG Pactual\, Administradores; CIEE-Rio
URL:https://comunidade-olimpiadas.lidersys.com.br/event/obadm-fim-de-inscricoes/
CATEGORIES:Início e Fim de Inscrições
ATTACH;FMTTYPE=image/png:https://comunidade-olimpiadas.lidersys.com.br/wp-content/uploads/2025/05/obadm.png
END:VEVENT
END:VCALENDAR