BEGIN:VCALENDAR
VERSION:2.0
PRODID:-//Plataforma de Colaboração para Olimpíadas Científicas - ECPv6.15.17//NONSGML v1.0//EN
CALSCALE:GREGORIAN
METHOD:PUBLISH
X-ORIGINAL-URL:https://comunidade-olimpiadas.lidersys.com.br
X-WR-CALDESC:Eventos para Plataforma de Colaboração para Olimpíadas Científicas
REFRESH-INTERVAL;VALUE=DURATION:PT1H
X-Robots-Tag:noindex
X-PUBLISHED-TTL:PT1H
BEGIN:VTIMEZONE
TZID:America/Sao_Paulo
BEGIN:STANDARD
TZOFFSETFROM:-0300
TZOFFSETTO:-0300
TZNAME:-03
DTSTART:20250101T000000
END:STANDARD
END:VTIMEZONE
BEGIN:VEVENT
DTSTART;VALUE=DATE:20260814
DTEND;VALUE=DATE:20260815
DTSTAMP:20260421T204343
CREATED:20260226T214932Z
LAST-MODIFIED:20260226T214932Z
UID:3673-1786665600-1786751999@comunidade-olimpiadas.lidersys.com.br
SUMMARY:OBMED (Olimpíada Brasileira de Medicina) – Encerramento das Inscrições
DESCRIPTION:Área temática: \n\nCiências da Saúde\nMedicina\n\nPúblico alvo: \n\nEstudantes do Ensino Médio de todo o país com interesse em aprofundamento nas ciências médicas\n\nFinanciamento\, apoio e/ou organização: \n\n\nCoordenação Nacional da OBMED
URL:https://comunidade-olimpiadas.lidersys.com.br/event/obmed-olimpiada-brasileira-de-medicina-encerramento-das-inscricoes/
CATEGORIES:Início e Fim de Inscrições
END:VEVENT
END:VCALENDAR