BEGIN:VCALENDAR
VERSION:2.0
PRODID:-//Plataforma de Colaboração para Olimpíadas Científicas - ECPv6.15.17//NONSGML v1.0//EN
CALSCALE:GREGORIAN
METHOD:PUBLISH
X-ORIGINAL-URL:https://comunidade-olimpiadas.lidersys.com.br
X-WR-CALDESC:Eventos para Plataforma de Colaboração para Olimpíadas Científicas
REFRESH-INTERVAL;VALUE=DURATION:PT1H
X-Robots-Tag:noindex
X-PUBLISHED-TTL:PT1H
BEGIN:VTIMEZONE
TZID:America/Sao_Paulo
BEGIN:STANDARD
TZOFFSETFROM:-0300
TZOFFSETTO:-0300
TZNAME:-03
DTSTART:20250101T000000
END:STANDARD
END:VTIMEZONE
BEGIN:VEVENT
DTSTART;VALUE=DATE:20260303
DTEND;VALUE=DATE:20260304
DTSTAMP:20260421T174201
CREATED:20260226T201624Z
LAST-MODIFIED:20260226T201624Z
UID:3653-1772496000-1772582399@comunidade-olimpiadas.lidersys.com.br
SUMMARY:OBB (Olimpíada Brasileira de Biologia) – Prova da 1ª Fase – Sem restrições
DESCRIPTION:Área temática: \n\nBiologia\n\nPúblico alvo: \n\nEstudantes do Ensino Médio de escolas públicas e particulares cadastradas no MEC.\n\nFinanciamento\, apoio e/ou organização: \n\nInstituto Butantan\nAgências de fomento\nGoverno Federal
URL:https://comunidade-olimpiadas.lidersys.com.br/event/obb-olimpiada-brasileira-de-biologia-prova-da-1a-fase-sem-restricoes/
CATEGORIES:Etapa I - Fase 1,Prova de Competição Nacional
END:VEVENT
END:VCALENDAR