BEGIN:VCALENDAR
VERSION:2.0
PRODID:-//Plataforma de Colaboração para Olimpíadas Científicas - ECPv6.15.17//NONSGML v1.0//EN
CALSCALE:GREGORIAN
METHOD:PUBLISH
X-WR-CALNAME:Plataforma de Colaboração para Olimpíadas Científicas
X-ORIGINAL-URL:https://comunidade-olimpiadas.lidersys.com.br
X-WR-CALDESC:Eventos para Plataforma de Colaboração para Olimpíadas Científicas
REFRESH-INTERVAL;VALUE=DURATION:PT1H
X-Robots-Tag:noindex
X-PUBLISHED-TTL:PT1H
BEGIN:VTIMEZONE
TZID:America/Sao_Paulo
BEGIN:STANDARD
TZOFFSETFROM:-0300
TZOFFSETTO:-0300
TZNAME:-03
DTSTART:20240101T000000
END:STANDARD
END:VTIMEZONE
BEGIN:VEVENT
DTSTART;VALUE=DATE:20250202
DTEND;VALUE=DATE:20250203
DTSTAMP:20260422T165823
CREATED:20250528T015452Z
LAST-MODIFIED:20250630T193922Z
UID:1854-1738454400-1738540799@comunidade-olimpiadas.lidersys.com.br
SUMMARY:Olimpíada Brasileira de Matemática (OBM) - Fim Semana Olímpica
DESCRIPTION:Área temática: \n\nMatemática\n\nPúblico-alvo:  \n\nNível 1 – estudantes do 6º ou 7º ano do Ensino Fundamental;\n\nNível 2 – estudantes do 8º ou 9º ano do Ensino Fundamental;\n\nNível 3 – estudantes do Ensino Médio; e\n\nNível universitário – estudantes universitários ou que tenham concluído o Ensino Médio há menos de um ano.\n\nModalidades e fases:  \nFase única – Para os Níveis 1. 2 e 3 é destinada a participantes que:\n \n\ntiveram as maiores pontuações na OBMEP;\n\nmedalhistas na edição anterior da OBM;\n\nmedalhistas do TM²\n\nmedalhistas da Competição Jacob Palis Júnior de Matemática;\n\ntiveram maiores pontuações nas competições regionais ligadas à OBM\n\nDuas fases – Para o Nível Universitário é destinada a participantes que:\n\nnão tenham concluído o ensino superior;\n\ngraduandos ou pessoas que tenham concluído o Ensino Médio há menos de um ano;\n\nA Competição Elon Lages Lima de Matemática equivale à primeira fase Nível Universitário da OBM\n\nSeletiva para competição internacional:  \n\nAsian Pacific Mathematics Olympiad (APMO); Competencia Iberoamericana Interuniversitaria de Matemáticas (CIIM); International Mathematics Competition for University Students (IMC); Iranian Geometry Olympiad (IGO); Olimpíada Ibero-americana de Matemática (OIM); Olimpíada Internacional de Matemática (IMO); Olimpíada de Maio (OM); Olimpíada de Matemática da Comunidade dos Países de Língua Portuguesa (OMC-PLP); Olimpíada de Matemática do Cone Sul (OMCsul)\n\nFinanciamento\, apoio e/ou organização:  \n\nCNPq; SBM; IMPA; INCTMat; Acad. Bras. Ciências; AOBM; UFBA
URL:https://comunidade-olimpiadas.lidersys.com.br/event/olimpiada-brasileira-de-matematica-obm-fim-semana-olimpica/
CATEGORIES:Semana Olímpica
ATTACH;FMTTYPE=image/png:https://comunidade-olimpiadas.lidersys.com.br/wp-content/uploads/2025/03/obm.png
END:VEVENT
BEGIN:VEVENT
DTSTART;VALUE=DATE:20250224
DTEND;VALUE=DATE:20250225
DTSTAMP:20260422T165823
CREATED:20250513T005908Z
LAST-MODIFIED:20250702T140631Z
UID:1108-1740355200-1740441599@comunidade-olimpiadas.lidersys.com.br
SUMMARY:Olimpíada Brasileira de Satélites MCTI (OBSAT) - Início Treinamento - Palestras para conhecimento da área aeroespacial
DESCRIPTION:Área temática: \n\nSatélites\n\nPúblico-alvo:  \n\nModalidade prática:\nNível 1 (N1) – Ensino Fundamental II;\nNível 2 (N2) – Ensino Médio e Técnico;\nNível 3 (N3) – Ensino Superior.\nModalidade teórica:\nNível Teórico 1 (NT1): Estudantes do 1º ano do Ensino Fundamental;\nNível Teórico 2 (NT2): Estudantes do 2º e 3º anos do Ensino Fundamental;\nNível Teórico 3 (NT3): Estudantes do 4º e 5º anos do Ensino Fundamental;\nNível Teórico 4 (NT4): Estudantes do 6º e 7º anos do Ensino Fundamental;\nNível Teórico 5 (NT5): Estudantes do 8º e 9º anos do Ensino Fundamental;\nNível Teórico 6 (NT6): Estudantes do Ensino Médio e Técnico.\n\nModalidades e fases:  \n\nModalidade prática:\nFase 0: Treinamento – Palestras para nivelamento na área aeroespacial\nFase 1: Planejamento – Imagine seu Satélite!\nFase 2: Construa\, programe\, teste seu satélite!\nFase 3: Lance seu satélite! – etapas regionais\nFase 4: Lance seu satélite! – etapa nacional\n\nModalidade teórica\nFase 0: Treinamento – Palestras para nivelamento na área aeroespacial\nFase 1: Avaliação online (Nível 1 a 6)\nFase 2: Avaliação presencial (Nível 6)\n\nFinanciamento\, apoio e/ou organização:  \n\nUFSCAR; Programa Espacial Brasileiro; AEB; LABRE; INPE; MCTI; Governo Federal
URL:https://comunidade-olimpiadas.lidersys.com.br/event/obsat-treinamento-palestras-para-conhecimento-da-area-aeroespacial/
CATEGORIES:Semana Olímpica
ATTACH;FMTTYPE=image/png:https://comunidade-olimpiadas.lidersys.com.br/wp-content/uploads/2025/05/obsat.png
END:VEVENT
END:VCALENDAR