BEGIN:VCALENDAR
VERSION:2.0
PRODID:-//Plataforma de Colaboração para Olimpíadas Científicas - ECPv6.15.17//NONSGML v1.0//EN
CALSCALE:GREGORIAN
METHOD:PUBLISH
X-WR-CALNAME:Plataforma de Colaboração para Olimpíadas Científicas
X-ORIGINAL-URL:https://comunidade-olimpiadas.lidersys.com.br
X-WR-CALDESC:Eventos para Plataforma de Colaboração para Olimpíadas Científicas
REFRESH-INTERVAL;VALUE=DURATION:PT1H
X-Robots-Tag:noindex
X-PUBLISHED-TTL:PT1H
BEGIN:VTIMEZONE
TZID:America/Sao_Paulo
BEGIN:STANDARD
TZOFFSETFROM:-0300
TZOFFSETTO:-0300
TZNAME:-03
DTSTART:20240101T000000
END:STANDARD
END:VTIMEZONE
BEGIN:VEVENT
DTSTART;VALUE=DATE:20250626
DTEND;VALUE=DATE:20250628
DTSTAMP:20260422T074457
CREATED:20250513T142042Z
LAST-MODIFIED:20250731T192604Z
UID:1241-1750896000-1751068799@comunidade-olimpiadas.lidersys.com.br
SUMMARY:Olimpíada Itabirana de Matemática (OIM) - Primeira fase - Nível 3
DESCRIPTION:Área temática: \n\nMatemática\n\nPúblico-alvo:  \n\nNível 1: Estudantes matriculados no 6º ou 7º ano do Ensino Fundamental;\n\nNível 2: Estudantes matriculados no 8º ou 9º ano do Ensino Fundamental;\n\nNível 3: Estudantes matriculados em qualquer ano do Ensino Médio.\n\nModalidades e fases:  \n\nDuas fases\n\nEtapa Especial “Elas em Destaque”\n\nFinanciamento\, apoio e/ou organização:  \n\nUEMG; IFNMG; AOBM; CNPq; MCTI; FNDCT; Stone
URL:https://comunidade-olimpiadas.lidersys.com.br/event/oim-primeira-fase-nivel-3/
CATEGORIES:Prova de Competição Nacional
ATTACH;FMTTYPE=image/png:https://comunidade-olimpiadas.lidersys.com.br/wp-content/uploads/2025/05/OIM.png
END:VEVENT
BEGIN:VEVENT
DTSTART;VALUE=DATE:20250627
DTEND;VALUE=DATE:20250628
DTSTAMP:20260422T074457
CREATED:20250513T015251Z
LAST-MODIFIED:20250731T190756Z
UID:1132-1750982400-1751068799@comunidade-olimpiadas.lidersys.com.br
SUMMARY:Olimpíada Brasileira de Química Júnior (OBQ - JR) - Fase 1
DESCRIPTION:Área temática: \n\nQuímica\n\nPúblico-alvo:  \n\nEstudantes do 8º e 9º ano do Ensino Fundamental\n\nModalidades e fases:  \n\nDuas fases\n\nFinanciamento\, apoio e/ou organização:  \n\nUFC; UFPI; ABQ; CFQ; ABIQUIM; ABICLOR; CNPq; MCTI; MEC
URL:https://comunidade-olimpiadas.lidersys.com.br/event/obq-jr-fase-1/
CATEGORIES:Prova de Competição Nacional
ATTACH;FMTTYPE=image/png:https://comunidade-olimpiadas.lidersys.com.br/wp-content/uploads/2025/05/obqjr.png
END:VEVENT
BEGIN:VEVENT
DTSTART;VALUE=DATE:20250627
DTEND;VALUE=DATE:20250628
DTSTAMP:20260422T074457
CREATED:20250529T011403Z
LAST-MODIFIED:20250702T140515Z
UID:2190-1750982400-1751068799@comunidade-olimpiadas.lidersys.com.br
SUMMARY:Olimpíada Brasileira de Satélites MCTI (OBSAT) - Fim Modalidade teórica - Fase 1 - on line
DESCRIPTION:Área temática: \n\nSatélites\n\nPúblico-alvo:  \n\nModalidade prática:\nNível 1 (N1) – Ensino Fundamental II;\nNível 2 (N2) – Ensino Médio e Técnico;\nNível 3 (N3) – Ensino Superior.\nModalidade teórica:\nNível Teórico 1 (NT1): Estudantes do 1º ano do Ensino Fundamental;\nNível Teórico 2 (NT2): Estudantes do 2º e 3º anos do Ensino Fundamental;\nNível Teórico 3 (NT3): Estudantes do 4º e 5º anos do Ensino Fundamental;\nNível Teórico 4 (NT4): Estudantes do 6º e 7º anos do Ensino Fundamental;\nNível Teórico 5 (NT5): Estudantes do 8º e 9º anos do Ensino Fundamental;\nNível Teórico 6 (NT6): Estudantes do Ensino Médio e Técnico.\n\nModalidades e fases:  \n\nModalidade prática:\nFase 0: Treinamento – Palestras para nivelamento na área aeroespacial\nFase 1: Planejamento – Imagine seu Satélite!\nFase 2: Construa\, programe\, teste seu satélite!\nFase 3: Lance seu satélite! – etapas regionais\nFase 4: Lance seu satélite! – etapa nacional\n\nModalidade teórica\nFase 0: Treinamento – Palestras para nivelamento na área aeroespacial\nFase 1: Avaliação online (Nível 1 a 6)\nFase 2: Avaliação presencial (Nível 6)\n\nFinanciamento\, apoio e/ou organização:  \n\nUFSCAR; Programa Espacial Brasileiro; AEB; LABRE; INPE; MCTI; Governo Federal
URL:https://comunidade-olimpiadas.lidersys.com.br/event/olimpiada-brasileira-de-satelites-mcti-obsat-fim-modalidade-teorica-fase-1-on-line/
CATEGORIES:Prova de Competição Nacional
ATTACH;FMTTYPE=image/png:https://comunidade-olimpiadas.lidersys.com.br/wp-content/uploads/2025/05/obsat.png
END:VEVENT
BEGIN:VEVENT
DTSTART;VALUE=DATE:20250628
DTEND;VALUE=DATE:20250629
DTSTAMP:20260422T074457
CREATED:20250513T170221Z
LAST-MODIFIED:20250831T130014Z
UID:1357-1751068800-1751155199@comunidade-olimpiadas.lidersys.com.br
SUMMARY:Olimpíada Brasileira de Ciências (OBC) - Fase 2
DESCRIPTION:Área temática: \n\nCiências\n\nPúblico-alvo:  \n\nEstudantes a partir de 15 anos de idade\n\nModalidades e fases:  \n\nDuas fases\n\nSeletiva IJSO\n\nSeletiva para Olimpíada Internacional:  \n\nOlimpíada Internacional Júnior de Ciências (IJSO)\n\nFinanciamento\, apoio e/ou organização:  \n\nb projetos
URL:https://comunidade-olimpiadas.lidersys.com.br/event/obc-fase-2/
CATEGORIES:Prova de Competição Nacional
ATTACH;FMTTYPE=image/png:https://comunidade-olimpiadas.lidersys.com.br/wp-content/uploads/2025/05/OBC.png
END:VEVENT
BEGIN:VEVENT
DTSTART;VALUE=DATE:20250628
DTEND;VALUE=DATE:20250630
DTSTAMP:20260422T074457
CREATED:20250513T154529Z
LAST-MODIFIED:20250526T183410Z
UID:1272-1751068800-1751241599@comunidade-olimpiadas.lidersys.com.br
SUMMARY:Campeonato Nacional de Física (CNF) - Fase 2 - Prova experimental
DESCRIPTION:Área temática: \n\nFísica\n\nPúblico-alvo:  \n\nNível 1: 7º ou 8º ano do ensino fundamental\n\nNível 2: 9º ano do ensino fundamental ou 1º ano do ensino médio\n\nNível 3: 2º ou 3º ano do ensino médio ou 4º ano do ensino técnico\n\nNível 4: Estudantes classificados para as Seletivas das Olimpíadas Internacionais de Física (SOIFs) ou que não se enquadram nos níveis anteriores\n\nModalidades e fases:  \n\nFase 1 – Prova teórica\n\nFase 2 – Prova teórica e prova experimental\n\nFase 3 – Prova teórica\n\nFinanciamento:  \n\nAmpulheta do Saber; Somos Educação; Bemol.
URL:https://comunidade-olimpiadas.lidersys.com.br/event/cnf-fase-2-prova-experimental/
CATEGORIES:Prova de Competição Nacional
ATTACH;FMTTYPE=image/png:https://comunidade-olimpiadas.lidersys.com.br/wp-content/uploads/2025/05/cnf.png
END:VEVENT
BEGIN:VEVENT
DTSTART;VALUE=DATE:20250629
DTEND;VALUE=DATE:20250630
DTSTAMP:20260422T074457
CREATED:20250513T200030Z
LAST-MODIFIED:20250831T131833Z
UID:1452-1751155200-1751241599@comunidade-olimpiadas.lidersys.com.br
SUMMARY:Olimpíada Brasileira de Fisiologia (OBFIS) - Fase 3
DESCRIPTION:Área temática: \n\nFisiologia\n\nPúblico-alvo:  \n\nEstudantes de graduação\n\nModalidades e fases:  \n\nTrês etapas\n\nFinanciamento\, apoio e/ou organização:  \n\nNUDCEN; UFRJ; IBCCF; Ciências e Cognição; OBN; Simpósio Brasileiro de Neurociências; OBNG; SBNeC; FeSBE; AD Instruments
URL:https://comunidade-olimpiadas.lidersys.com.br/event/obfis-fase-3/
CATEGORIES:Prova de Competição Nacional
ATTACH;FMTTYPE=image/png:https://comunidade-olimpiadas.lidersys.com.br/wp-content/uploads/2025/05/OBFIS.png
END:VEVENT
BEGIN:VEVENT
DTSTART;VALUE=DATE:20250629
DTEND;VALUE=DATE:20250630
DTSTAMP:20260422T074457
CREATED:20250527T015722Z
LAST-MODIFIED:20250831T125437Z
UID:1708-1751155200-1751241599@comunidade-olimpiadas.lidersys.com.br
SUMMARY:Olimpíada Brasileira de Neurociências para Graduandos (OBNG) -  Terceira fase (Live Questions)
DESCRIPTION:Área temática: \n\nNeurociências\n\nPúblico-alvo:  \n\nEstudantes de graduação\n\nModalidades e fases:  \n\nTrês etapas\n\nFinanciamento\, apoio e/ou organização:  \n\nNUDCEN; UFRJ; IBCCF; Ciências e Cognição; OBN; Simpósio Brasileiro de Neurociências; OBFIS; SBNeC; FeSBE; AD Instruments
URL:https://comunidade-olimpiadas.lidersys.com.br/event/olimpiada-brasileira-de-neurociencias-para-graduandos-obng-terceira-fase-live-questions/
CATEGORIES:Prova de Competição Nacional
ATTACH;FMTTYPE=image/png:https://comunidade-olimpiadas.lidersys.com.br/wp-content/uploads/2025/05/OBNG.png
END:VEVENT
BEGIN:VEVENT
DTSTART;VALUE=DATE:20250630
DTEND;VALUE=DATE:20250701
DTSTAMP:20260422T074457
CREATED:20250513T014807Z
LAST-MODIFIED:20250830T230923Z
UID:1122-1751241600-1751327999@comunidade-olimpiadas.lidersys.com.br
SUMMARY:Olimpíada Brasileira do Ensino Superior de Química (OBESQ) - Fim de inscrições
DESCRIPTION:Área temática: \n\nQuímica\n\nPúblico-alvo: \n\nEstudantes do Ensino Superior\n\nModalidades e fases:  \n\nDuas fases\n\nFinanciamento\, apoio e/ou organização:  \n\nCNPq; CFQ; Abiclor; Abiquim; MEC; MCTI; UFC; UFPI; ABQ
URL:https://comunidade-olimpiadas.lidersys.com.br/event/obesq-fim-de-inscricoes/
CATEGORIES:Início e Fim de Inscrições
ATTACH;FMTTYPE=image/png:https://comunidade-olimpiadas.lidersys.com.br/wp-content/uploads/2025/05/OBESQ.png
END:VEVENT
BEGIN:VEVENT
DTSTART;VALUE=DATE:20250630
DTEND;VALUE=DATE:20250701
DTSTAMP:20260422T074457
CREATED:20250513T170620Z
LAST-MODIFIED:20250831T130122Z
UID:1367-1751241600-1751327999@comunidade-olimpiadas.lidersys.com.br
SUMMARY:Olimpíada Brasileira do Saber (OBS) - Início Fase Presencial Global
DESCRIPTION:Área temática: \n\nInterdisciplinar\n\nPúblico-alvo:  \n\nEstudantes do 8º ano do Ensino Fundamental à 3ª série do Ensino Médio;\nIdade máxima: 19 anos.\n\nModalidades e fases:  \n\nFase I\nFase II\nFase presencial\n\nFinanciamento\, apoio e/ou organização:  \n\nLudbecs Educacional; UFMT; UFRRJ; UNESP; Robo Party; ADPRED
URL:https://comunidade-olimpiadas.lidersys.com.br/event/obs-fase-presencial-global/
CATEGORIES:Prova de Competição Nacional
ATTACH;FMTTYPE=image/png:https://comunidade-olimpiadas.lidersys.com.br/wp-content/uploads/2025/05/OBS.png
END:VEVENT
BEGIN:VEVENT
DTSTART;VALUE=DATE:20250701
DTEND;VALUE=DATE:20250702
DTSTAMP:20260422T074457
CREATED:20250513T020308Z
LAST-MODIFIED:20250731T192050Z
UID:1155-1751328000-1751414399@comunidade-olimpiadas.lidersys.com.br
SUMMARY:Olimpíada Nacional de Ambientes Marinhos e Polares (POLARON) - Fim de inscrições
DESCRIPTION:Área temática: \n\nAmbientes Marinhos e Polares\n\nPúblico-alvo:  \n\nEstudantes do 9º ano do Ensino Fundamental\, Ensino Médio e 4º ano do Ensino Técnico\n\nModalidades e fases:  \n\nUma fase\n\nFinanciamento\, apoio e/ou organização:  \n\nUERGS; Secretaria de Inovação\, Ciência e Tecnologia (SICT-RS); MCTI; CNPq
URL:https://comunidade-olimpiadas.lidersys.com.br/event/polaron-fim-de-inscricoes/
CATEGORIES:Início e Fim de Inscrições
ATTACH;FMTTYPE=image/png:https://comunidade-olimpiadas.lidersys.com.br/wp-content/uploads/2025/05/POLARON.png
END:VEVENT
BEGIN:VEVENT
DTSTART;VALUE=DATE:20250704
DTEND;VALUE=DATE:20250705
DTSTAMP:20260422T074457
CREATED:20250513T160655Z
LAST-MODIFIED:20250831T124029Z
UID:1307-1751587200-1751673599@comunidade-olimpiadas.lidersys.com.br
SUMMARY:Olimpíada Brasileira de Tecnologia (OBT)  - Início Fase 2 - Desenvolvimento e envio APP
DESCRIPTION:Área temática: \n\nTecnologia\n\nPúblico-alvo:  \n\nNível 1: 8º e 9º anos do Ensino Fundamental;\n\nNível 2: 1ª\, 2ª e 3ª série do Ensino Médio.\n\nModalidades e fases:  \n\nPrimeira fase\n\nSegunda fase\n\nDesafio APP (optativo)\n\nFinanciamento\, apoio e/ou organização:  \n\nInstituto Alpha Lumen; MIT Brazil; Cloudwalk
URL:https://comunidade-olimpiadas.lidersys.com.br/event/obt-fase-2-desenvolvimento-e-envio-app/
CATEGORIES:Prova de Competição Nacional
ATTACH;FMTTYPE=image/png:https://comunidade-olimpiadas.lidersys.com.br/wp-content/uploads/2025/05/OBT.png
END:VEVENT
BEGIN:VEVENT
DTSTART;VALUE=DATE:20250704
DTEND;VALUE=DATE:20250705
DTSTAMP:20260422T074457
CREATED:20250530T165058Z
LAST-MODIFIED:20250831T130117Z
UID:2429-1751587200-1751673599@comunidade-olimpiadas.lidersys.com.br
SUMMARY:Olimpíada Brasileira do Saber (OBS) - Fim Fase Presencial Global
DESCRIPTION:Área temática: \n\nInterdisciplinar\n\nPúblico-alvo:  \n\nEstudantes do 8º ano do Ensino Fundamental à 3ª série do Ensino Médio;\nIdade máxima: 19 anos.\n\nModalidades e fases:  \n\nFase I\nFase II\nFase presencial\n\nFinanciamento\, apoio e/ou organização:  \n\nLudbecs Educacional; UFMT; UFRRJ; UNESP; Robo Party; ADPRED
URL:https://comunidade-olimpiadas.lidersys.com.br/event/olimpiada-brasileira-do-saber-obs-fim-fase-presencial-global/
CATEGORIES:Prova de Competição Nacional
ATTACH;FMTTYPE=image/png:https://comunidade-olimpiadas.lidersys.com.br/wp-content/uploads/2025/05/OBS.png
END:VEVENT
BEGIN:VEVENT
DTSTART;VALUE=DATE:20250705
DTEND;VALUE=DATE:20250706
DTSTAMP:20260422T074457
CREATED:20250513T014859Z
LAST-MODIFIED:20250830T230905Z
UID:1124-1751673600-1751759999@comunidade-olimpiadas.lidersys.com.br
SUMMARY:Olimpíada Brasileira do Ensino Superior de Química (OBESQ) - Fase 1
DESCRIPTION:Área temática: \n\nQuímica\n\nPúblico-alvo: \n\nEstudantes do Ensino Superior\n\nModalidades e fases:  \n\nDuas fases\n\nFinanciamento\, apoio e/ou organização:  \n\nCNPq; CFQ; Abiclor; Abiquim; MEC; MCTI; UFC; UFPI; ABQ
URL:https://comunidade-olimpiadas.lidersys.com.br/event/obesq-fase-1/
CATEGORIES:Prova de Competição Nacional
ATTACH;FMTTYPE=image/png:https://comunidade-olimpiadas.lidersys.com.br/wp-content/uploads/2025/05/OBESQ.png
END:VEVENT
BEGIN:VEVENT
DTSTART;VALUE=DATE:20250707
DTEND;VALUE=DATE:20250708
DTSTAMP:20260422T074457
CREATED:20250530T163249Z
LAST-MODIFIED:20250831T124011Z
UID:2395-1751846400-1751932799@comunidade-olimpiadas.lidersys.com.br
SUMMARY:Olimpíada Brasileira de Tecnologia (OBT)  - Fim Fase 2 - Desenvolvimento e envio APP
DESCRIPTION:Área temática: \n\nTecnologia\n\nPúblico-alvo:  \n\nNível 1: 8º e 9º anos do Ensino Fundamental;\n\nNível 2: 1ª\, 2ª e 3ª série do Ensino Médio.\n\nModalidades e fases:  \n\nPrimeira fase\n\nSegunda fase\n\nDesafio APP (optativo)\n\nFinanciamento\, apoio e/ou organização:  \n\nInstituto Alpha Lumen; MIT Brazil; Cloudwalk
URL:https://comunidade-olimpiadas.lidersys.com.br/event/olimpiada-brasileira-de-tecnologia-obt-fim-fase-2-desenvolvimento-e-envio-app/
CATEGORIES:Prova de Competição Nacional
ATTACH;FMTTYPE=image/png:https://comunidade-olimpiadas.lidersys.com.br/wp-content/uploads/2025/05/OBT.png
END:VEVENT
BEGIN:VEVENT
DTSTART;VALUE=DATE:20250707
DTEND;VALUE=DATE:20250708
DTSTAMP:20260422T074457
CREATED:20250831T142128Z
LAST-MODIFIED:20250831T142645Z
UID:3225-1751846400-1751932799@comunidade-olimpiadas.lidersys.com.br
SUMMARY:Olimpíada Brasileira Online de Física (OBOF) - Início de inscrições
DESCRIPTION:Área temática: \n\nFísica\n\nPúblico-alvo:  \n\nNível Júnior: estudantes do 6º e 7º anos do Ensino Fundamental\nNível Moysés Nussenzveig: estudantes do 8º e 9º anos do Ensino Fundamental\nNível César Lattes: estudantes do 1º e 2º anos do Ensino Médio\nNível Elisa Frota Pessoa: estudantes do 3º ano do Ensino Médio\nCategoria aberta: pessoas que não se encaixem nas outras categorias\, incluindo estudantes do 4º ano do Ensino Técnico\n\nModalidades e fases:  \n\nDuas fases\n\nFinanciamento\, apoio e/ou organização:  \n\nFisicadu; NOIC
URL:https://comunidade-olimpiadas.lidersys.com.br/event/olimpiada-nacional-de-eficiencia-energetica-onee-terceira-fase-inicio/
CATEGORIES:Início e Fim de Inscrições
END:VEVENT
BEGIN:VEVENT
DTSTART;VALUE=DATE:20250707
DTEND;VALUE=DATE:20250708
DTSTAMP:20260422T074457
CREATED:20250831T145410Z
LAST-MODIFIED:20250831T145410Z
UID:3245-1751846400-1751932799@comunidade-olimpiadas.lidersys.com.br
SUMMARY:Olimpíada Brasileira On Line de Astronomia (OBOA) - Início de Inscrições
DESCRIPTION:Área temática: \n\nAstronomia\n\nPúblico-alvo:  \n\nNível João Steiner – estudantes do 8º e 9º ano do Ensino Fundamental\nNível Rubens de Azevedo – estudantes do Ensino Médio\nCategoria aberta – aberta a qualquer pessoa\n\nModalidades e fases:  \n\nDuas fases\n\nFinanciamento\, apoio e/ou organização:  \n\nNOIC; ABF AstroBioFísica
URL:https://comunidade-olimpiadas.lidersys.com.br/event/olimpiada-brasileira-on-line-de-astronomia-oboa-inicio-de-inscricoes/
CATEGORIES:Início e Fim de Inscrições
END:VEVENT
BEGIN:VEVENT
DTSTART;VALUE=DATE:20250711
DTEND;VALUE=DATE:20250712
DTSTAMP:20260422T074457
CREATED:20250513T002406Z
LAST-MODIFIED:20250701T201345Z
UID:1052-1752192000-1752278399@comunidade-olimpiadas.lidersys.com.br
SUMMARY:Olimpíada Brasileira de Geografia (OBG) - Fim de inscrições
DESCRIPTION:Área temática: \n\nGeografia\n\nPúblico-alvo:  \n\nEstudantes do 9° ano do Ensino Fundamental\n\nEstudantes do Ensino Médio\n\nModalidades e fases:  \n\nTrês fases (Estaduais)\n\nUma fase (Nacional)\n\nSeletiva para Olimpíada Internacional:  \n\nInternational Geography Olympiad (iGEO)\n\nFinanciamento\, apoio e/ou organização:  \n\nUNIFAL; FACEPE; CNPq
URL:https://comunidade-olimpiadas.lidersys.com.br/event/obg-fim-de-inscricoes/
CATEGORIES:Início e Fim de Inscrições
ATTACH;FMTTYPE=image/png:https://comunidade-olimpiadas.lidersys.com.br/wp-content/uploads/2025/05/OBG.png
END:VEVENT
BEGIN:VEVENT
DTSTART;VALUE=DATE:20250711
DTEND;VALUE=DATE:20250712
DTSTAMP:20260422T074457
CREATED:20250831T143318Z
LAST-MODIFIED:20250831T143318Z
UID:3233-1752192000-1752278399@comunidade-olimpiadas.lidersys.com.br
SUMMARY:Olimpíada Brasileira Online de Física (OBOF) - Fim de inscrições
DESCRIPTION:Área temática: \n\nFísica\n\nPúblico-alvo:  \n\nNível Júnior: estudantes do 6º e 7º anos do Ensino Fundamental\nNível Moysés Nussenzveig: estudantes do 8º e 9º anos do Ensino Fundamental\nNível César Lattes: estudantes do 1º e 2º anos do Ensino Médio\nNível Elisa Frota Pessoa: estudantes do 3º ano do Ensino Médio\nCategoria aberta: pessoas que não se encaixem nas outras categorias\, incluindo estudantes do 4º ano do Ensino Técnico\n\nModalidades e fases:  \n\nDuas fases\n\nFinanciamento\, apoio e/ou organização:  \n\nFisicadu; NOIC
URL:https://comunidade-olimpiadas.lidersys.com.br/event/olimpiada-brasileira-online-de-fisica-obof-fim-de-inscricoes/
CATEGORIES:Início e Fim de Inscrições
END:VEVENT
BEGIN:VEVENT
DTSTART;VALUE=DATE:20250712
DTEND;VALUE=DATE:20250713
DTSTAMP:20260422T074457
CREATED:20250528T030319Z
LAST-MODIFIED:20250701T201542Z
UID:1919-1752278400-1752364799@comunidade-olimpiadas.lidersys.com.br
SUMMARY:Olimpíada Brasileira de Cartografia (OBRAC) - Fim Etapa II - Fase 1 - Prova prática
DESCRIPTION:Área temática: \n\nCartografia\n\nPúblico-alvo:  \n\nEstudantes do 9° ano do Ensino Fundamental;\n\nEstudantes do Ensino Médio; e\n\nFaixa etária: 13 a 19 anos.\n\nModalidades e fases:  \n\nEtapa 1 – Fase 1 – teste teórico\n\nEtapa 2 – Fases 1 e 2 – teste prático\n\nEtapa 3 – Fase 1 – teste prático presencial\n\nFinanciamento\, apoio e/ou organização:  \n\nCNPq; UFF; PROEX da UFF; LABCART; Revista Tamoios
URL:https://comunidade-olimpiadas.lidersys.com.br/event/olimpiada-brasileira-de-cartografia-obrac-fim-etapa-ii-fase-1-prova-pratica/
CATEGORIES:Prova de Competição Nacional
ATTACH;FMTTYPE=image/png:https://comunidade-olimpiadas.lidersys.com.br/wp-content/uploads/2025/05/OBRAC.png
END:VEVENT
BEGIN:VEVENT
DTSTART;VALUE=DATE:20250713
DTEND;VALUE=DATE:20250714
DTSTAMP:20260422T074457
CREATED:20250831T133950Z
LAST-MODIFIED:20250831T133950Z
UID:3200-1752364800-1752451199@comunidade-olimpiadas.lidersys.com.br
SUMMARY:Olimpíada Brasileira de Educação Financeira (OBEF) - Fim de inscrições
DESCRIPTION:Área temática: \n\nEducação Financeira\n\nPúblico-alvo:  \n\nNível 1: estudantes do 2º ano ao 3º ano do ensino fundamental\nNível 2: estudantes do 4º ano ao 5º ano\, do ensino fundamental\nNível 3: estudantes do 6º ano ao 7º ano\, do ensino fundamental\nNível 4: estudantes do 8º ano ao 9º ano\, do ensino fundamental\nNível 5: estudantes do 1º ao 3º ano do ensino médio e 4º ano técnico\n\nModalidades e fases:  \n\nTrês etapas\n\nFinanciamento\, apoio e/ou organização:  \n\nUFPB; CCSA; DFC; Projeto de Extensão para Toda a Vida
URL:https://comunidade-olimpiadas.lidersys.com.br/event/olimpiada-brasileira-de-educacao-financeira-obef-fim-de-inscricoes/
CATEGORIES:Início e Fim de Inscrições
END:VEVENT
BEGIN:VEVENT
DTSTART;VALUE=DATE:20250714
DTEND;VALUE=DATE:20250715
DTSTAMP:20260422T074457
CREATED:20250513T160745Z
LAST-MODIFIED:20250831T124023Z
UID:1309-1752451200-1752537599@comunidade-olimpiadas.lidersys.com.br
SUMMARY:Olimpíada Brasileira de Tecnologia (OBT) - Início Semana EAT
DESCRIPTION:Área temática: \n\nTecnologia\n\nPúblico-alvo:  \n\nNível 1: 8º e 9º anos do Ensino Fundamental;\n\nNível 2: 1ª\, 2ª e 3ª série do Ensino Médio.\n\nModalidades e fases:  \n\nPrimeira fase\n\nSegunda fase\n\nDesafio APP (optativo)\n\nFinanciamento\, apoio e/ou organização:  \n\nInstituto Alpha Lumen; MIT Brazil; Cloudwalk
URL:https://comunidade-olimpiadas.lidersys.com.br/event/obt-semana-eat/
CATEGORIES:Semana Olímpica
ATTACH;FMTTYPE=image/png:https://comunidade-olimpiadas.lidersys.com.br/wp-content/uploads/2025/05/OBT.png
END:VEVENT
BEGIN:VEVENT
DTSTART;VALUE=DATE:20250719
DTEND;VALUE=DATE:20250720
DTSTAMP:20260422T074457
CREATED:20250530T163415Z
LAST-MODIFIED:20250831T124005Z
UID:2399-1752883200-1752969599@comunidade-olimpiadas.lidersys.com.br
SUMMARY:Olimpíada Brasileira de Tecnologia (OBT) - Fim Semana EAT
DESCRIPTION:Área temática: \n\nTecnologia\n\nPúblico-alvo:  \n\nNível 1: 8º e 9º anos do Ensino Fundamental;\n\nNível 2: 1ª\, 2ª e 3ª série do Ensino Médio.\n\nModalidades e fases:  \n\nPrimeira fase\n\nSegunda fase\n\nDesafio APP (optativo)\n\nFinanciamento\, apoio e/ou organização:  \n\nInstituto Alpha Lumen; MIT Brazil; Cloudwalk
URL:https://comunidade-olimpiadas.lidersys.com.br/event/olimpiada-brasileira-de-tecnologia-obt-fim-semana-eat/
CATEGORIES:Semana Olímpica
ATTACH;FMTTYPE=image/png:https://comunidade-olimpiadas.lidersys.com.br/wp-content/uploads/2025/05/OBT.png
END:VEVENT
BEGIN:VEVENT
DTSTART;VALUE=DATE:20250722
DTEND;VALUE=DATE:20250723
DTSTAMP:20260422T074457
CREATED:20250831T143935Z
LAST-MODIFIED:20250831T143935Z
UID:3239-1753142400-1753228799@comunidade-olimpiadas.lidersys.com.br
SUMMARY:Olimpíada Brasileira Online de Informática (OBOI) - Início de inscrições
DESCRIPTION:Área temática: \n\nInformática\n\nPúblico-alvo:  \n\nNível Júnior: estudantes até 1º ano do Ensino Médio\nNível Pleno: estudantes até 3º ano do Ensino Médio\nNível Sênior: aberto ao público\n\nModalidades e fases:  \n\nDuas fases\n\nFinanciamento\, apoio e/ou organização:  \n\nNOIC; Neps Academy
URL:https://comunidade-olimpiadas.lidersys.com.br/event/olimpiada-brasileira-online-de-informatica-oboi-inicio-de-inscricoes/
CATEGORIES:Início e Fim de Inscrições
END:VEVENT
BEGIN:VEVENT
DTSTART;VALUE=DATE:20250728
DTEND;VALUE=DATE:20250729
DTSTAMP:20260422T074457
CREATED:20250513T020417Z
LAST-MODIFIED:20250731T192044Z
UID:1157-1753660800-1753747199@comunidade-olimpiadas.lidersys.com.br
SUMMARY:Olimpíada Nacional de Ambientes Marinhos e Polares (POLARON) - Início Fase única
DESCRIPTION:Área temática: \n\nAmbientes Marinhos e Polares\n\nPúblico-alvo:  \n\nEstudantes do 9º ano do Ensino Fundamental\, Ensino Médio e 4º ano do Ensino Técnico\n\nModalidades e fases:  \n\nUma fase\n\nFinanciamento\, apoio e/ou organização:  \n\nUERGS; Secretaria de Inovação\, Ciência e Tecnologia (SICT-RS); MCTI; CNPq
URL:https://comunidade-olimpiadas.lidersys.com.br/event/polaron-fase-unica/
CATEGORIES:Prova de Competição Nacional
ATTACH;FMTTYPE=image/png:https://comunidade-olimpiadas.lidersys.com.br/wp-content/uploads/2025/05/POLARON.png
END:VEVENT
BEGIN:VEVENT
DTSTART;VALUE=DATE:20250728
DTEND;VALUE=DATE:20250729
DTSTAMP:20260422T074457
CREATED:20250830T015751Z
LAST-MODIFIED:20250830T015751Z
UID:2977-1753660800-1753747199@comunidade-olimpiadas.lidersys.com.br
SUMMARY:Olimpíada de Medicina (Vitalis) - Início de inscrições
DESCRIPTION:Área temática: \n\nMedicina\n\nPúblico-alvo:  \n\nJúnior Regular: Estudantes do 6º ao 9º ano do Ensino Fundamental\nJúnior Livre: Qualquer pessoa interessada em Medicina\nSênior Regular: Estudantes do Ensino Médio\, incluindo o 4° ano de cursos\nSênior Livre: Qualquer pessoa interessada em Medicina\n\nFinanciamento\, apoio e/ou organização:  \n\nVertere Instituto; Fractal; Liga das Olimpíadas
URL:https://comunidade-olimpiadas.lidersys.com.br/event/olimpiada-de-medicina-vitalis-inicio-de-inscricoes/
CATEGORIES:Início e Fim de Inscrições
END:VEVENT
BEGIN:VEVENT
DTSTART;VALUE=DATE:20250731
DTEND;VALUE=DATE:20250801
DTSTAMP:20260422T074457
CREATED:20250530T172820Z
LAST-MODIFIED:20250831T100250Z
UID:2484-1753920000-1754006399@comunidade-olimpiadas.lidersys.com.br
SUMMARY:Maratona Tech - Fim de inscrições
DESCRIPTION:Área temática: \n\nTecnologia\n\nPúblico-alvo:  \n\nNível 1: 6º e 7º ano do Ensino Fundamental;\nNível 2: 8º e 9º ano do Ensino Fundamental; e\nNível 3: Ensino Médio.\n\nModalidades e fases:  \n\nDuas fases\n\nFinanciamento\, apoio e/ou organização:  \n\nIfood; Arco; Rocketseat; Mercado Livre; Instituto Coca-Cola Brasil; Instituto Gol; Fundação Behring; Instituto Localiza; Finep; MCTI
URL:https://comunidade-olimpiadas.lidersys.com.br/event/maratona-tech-fim-de-inscricoes/
CATEGORIES:Início e Fim de Inscrições
ATTACH;FMTTYPE=image/png:https://comunidade-olimpiadas.lidersys.com.br/wp-content/uploads/2025/05/Maratona-Tech.png
END:VEVENT
BEGIN:VEVENT
DTSTART;VALUE=DATE:20250801
DTEND;VALUE=DATE:20250802
DTSTAMP:20260422T074457
CREATED:20250630T201309Z
LAST-MODIFIED:20250630T201309Z
UID:2753-1754006400-1754092799@comunidade-olimpiadas.lidersys.com.br
SUMMARY:Olimpíada Brasileira de Física (OBF) - Prazo para pagamento de taxa segunda fase
DESCRIPTION:Área temática: \n\nFísica\n\nPúblico-alvo:  \n\nNível Junior: estudantes do 6° ou 7º ano do Ensino Fundamental;\n\nNível I: estudantes do 8º ou 9º ano do Ensino Fundamental;\n\nNível II: estudantes da 1ª ou 2ª serie do Ensino Médio;\n\nNível III: estudantes da 3ª serie do Ensino Médio.\n\nModalidades e fases:  \n\nTrês fases\n\nSeletiva para competição internacional  \n\nInternational Physics Olympiad (IPhO);\n\nOlimpíada Iberoamericana de Física (OIbF);\n\nEuropean Physics Olympiad (EuPhO).\n\nFinanciamento\, apoio e/ou organização:  \n\nSBF; BTG Pactual
URL:https://comunidade-olimpiadas.lidersys.com.br/event/olimpiada-brasileira-de-fisica-obf-prazo-para-pagamento-de-taxa-segunda-fase/
CATEGORIES:Início e Fim de Inscrições
ATTACH;FMTTYPE=image/png:https://comunidade-olimpiadas.lidersys.com.br/wp-content/uploads/2025/05/OBF.png
END:VEVENT
BEGIN:VEVENT
DTSTART;VALUE=DATE:20250801
DTEND;VALUE=DATE:20250802
DTSTAMP:20260422T074457
CREATED:20250831T141538Z
LAST-MODIFIED:20250831T141538Z
UID:3216-1754006400-1754092799@comunidade-olimpiadas.lidersys.com.br
SUMMARY:Olimpíada Nacional de Eficiência Energética (ONEE) - Início de inscrições
DESCRIPTION:Área temática: \n\nEficiência Energética\n\nPúblico-alvo:  \n\nEstudantes do 8º e 9º ano do Ensino Fundamental\n\nModalidades e fases:  \n\nDuas fases\n\nFinanciamento\, apoio e/ou organização:  \n\niABRADEE; EDP; ANEEL; Distribuidoras de energia
URL:https://comunidade-olimpiadas.lidersys.com.br/event/olimpiada-nacional-de-eficiencia-energetica-onee-inicio-de-inscricoes/
CATEGORIES:Início e Fim de Inscrições
END:VEVENT
BEGIN:VEVENT
DTSTART;VALUE=DATE:20250804
DTEND;VALUE=DATE:20250805
DTSTAMP:20260422T074457
CREATED:20250513T142700Z
LAST-MODIFIED:20250831T095929Z
UID:1253-1754265600-1754351999@comunidade-olimpiadas.lidersys.com.br
SUMMARY:Torneio Virtual de Química (TVQ) - Início Fase 2
DESCRIPTION:Área temática: \n\nQuímica\n\nPúblico-alvo:  \n\nEstudantes do 9° ano do ensino fundamental\, ensino médio e ensino técnico.\n\nModalidades e fases:  \n\nTrês fases \n\nFinanciamento\, apoio e/ou organização:  \n\nIQ/Unicamp
URL:https://comunidade-olimpiadas.lidersys.com.br/event/tvq-fase-2/
CATEGORIES:Prova de Competição Nacional
ATTACH;FMTTYPE=image/png:https://comunidade-olimpiadas.lidersys.com.br/wp-content/uploads/2025/05/TVQ.png
END:VEVENT
BEGIN:VEVENT
DTSTART;VALUE=DATE:20250804
DTEND;VALUE=DATE:20250805
DTSTAMP:20260422T074457
CREATED:20250530T173018Z
LAST-MODIFIED:20250831T100232Z
UID:2486-1754265600-1754351999@comunidade-olimpiadas.lidersys.com.br
SUMMARY:Maratona Tech - Início Fase 1
DESCRIPTION:Área temática: \n\nTecnologia\n\nPúblico-alvo:  \n\nNível 1: 6º e 7º ano do Ensino Fundamental;\nNível 2: 8º e 9º ano do Ensino Fundamental; e\nNível 3: Ensino Médio.\n\nModalidades e fases:  \n\nDuas fases\n\nFinanciamento\, apoio e/ou organização:  \n\nIfood; Arco; Rocketseat; Mercado Livre; Instituto Coca-Cola Brasil; Instituto Gol; Fundação Behring; Instituto Localiza; Finep; MCTI
URL:https://comunidade-olimpiadas.lidersys.com.br/event/maratona-tech-inicio-fase-1/
CATEGORIES:Prova de Competição Nacional
ATTACH;FMTTYPE=image/png:https://comunidade-olimpiadas.lidersys.com.br/wp-content/uploads/2025/05/Maratona-Tech.png
END:VEVENT
END:VCALENDAR