BEGIN:VCALENDAR
VERSION:2.0
PRODID:-//Plataforma de Colaboração para Olimpíadas Científicas - ECPv6.15.17//NONSGML v1.0//EN
CALSCALE:GREGORIAN
METHOD:PUBLISH
X-WR-CALNAME:Plataforma de Colaboração para Olimpíadas Científicas
X-ORIGINAL-URL:https://comunidade-olimpiadas.lidersys.com.br
X-WR-CALDESC:Eventos para Plataforma de Colaboração para Olimpíadas Científicas
REFRESH-INTERVAL;VALUE=DURATION:PT1H
X-Robots-Tag:noindex
X-PUBLISHED-TTL:PT1H
BEGIN:VTIMEZONE
TZID:America/Sao_Paulo
BEGIN:STANDARD
TZOFFSETFROM:-0300
TZOFFSETTO:-0300
TZNAME:-03
DTSTART:20250101T000000
END:STANDARD
END:VTIMEZONE
BEGIN:VEVENT
DTSTART;VALUE=DATE:20261017
DTEND;VALUE=DATE:20261018
DTSTAMP:20260421T184833
CREATED:20260226T220037Z
LAST-MODIFIED:20260226T220037Z
UID:3677-1792195200-1792281599@comunidade-olimpiadas.lidersys.com.br
SUMMARY:OBMEP (Olimpíada Brasileira de Matemática das Escolas Públicas) – Prova da 2ª Fase – Apenas para classificados na 1ª fase
DESCRIPTION:Área temática: \n\nMatemática\n\nPúblico-alvo: \n\nEstudantes com as melhores pontuações na 1ª fase (prova discursiva).\n\nFinanciamento\, apoio e/ou organização: \n\n\nIMPA (Instituto de Matemática Pura e Aplicada)
URL:https://comunidade-olimpiadas.lidersys.com.br/event/obmep-olimpiada-brasileira-de-matematica-das-escolas-publicas-prova-da-2a-fase-apenas-para-classificados-na-1a-fase/
CATEGORIES:Prova de Competição Nacional
END:VEVENT
END:VCALENDAR